BEGIN:VCALENDAR
VERSION:2.0
PRODID:-//ChamberMaster//Event Calendar 2.0//EN
METHOD:PUBLISH
X-PUBLISHED-TTL:P3D
REFRESH-INTERVAL:P3D
CALSCALE:GREGORIAN
BEGIN:VEVENT
DTSTART:20190510T180000Z
DTEND:20190510T223000Z
X-MICROSOFT-CDO-ALLDAYEVENT:FALSE
SUMMARY:American Red Cross Blood Drive
DESCRIPTION:Give Blood.  Save Lives\n\nJoin us at the Holiday Inn Winchester SE - Historic Gateway\, who is hosting an American Red Cross Blood Drive from 2PM - 6:30PM.
X-ALT-DESC;FMTTYPE=text/html:<span style="background-color:rgb(255\, 255\, 255)\; color:rgb(51\, 51\, 51)\; font-family:sans-serif\,arial\,verdana\,trebuchet ms\; font-size:13px">Give Blood.&nbsp\; Save Lives</span><br />\n<span style="background-color:rgb(255\, 255\, 255)\; color:rgb(51\, 51\, 51)\; font-family:sans-serif\,arial\,verdana\,trebuchet ms\; font-size:13px">Join us at the Holiday Inn Winchester SE - Historic Gateway\, who is hosting an American Red Cross Blood Drive from 2PM - 6:30PM.</span>
LOCATION:Holiday Inn Winchester SE - Historic Gateway 333 Front Royal Pike Winchester\, VA 22602 540-667-3300
UID:e.2531.9430
SEQUENCE:3
DTSTAMP:20260421T151434Z
URL:https://business.regionalchamber.biz/events/details/american-red-cross-blood-drive-05-10-2019-9430
END:VEVENT

END:VCALENDAR
