BEGIN:VCALENDAR
VERSION:2.0
PRODID:-//ChamberMaster//Event Calendar 2.0//EN
METHOD:PUBLISH
X-PUBLISHED-TTL:P3D
REFRESH-INTERVAL:P3D
CALSCALE:GREGORIAN
BEGIN:VEVENT
DTSTART:20190511T230000Z
DTEND:20190512T020000Z
X-MICROSOFT-CDO-ALLDAYEVENT:FALSE
SUMMARY:Angela Marchese
DESCRIPTION:Soprano\, Angela Marchese is a passionate and versatile artist. Her "rich\, burnished voice" has thrilled audiences both locally and abroad. Roles performed include Mimi in La Boheme\, Fiordiligi in Cosi fan Tutte\, Rosalinda in Die Fledermaus\, La Contessa in Le Nozze di Figaro\, the title role in Gluck's Armide\, Micaela in Carmen\, The Governess in Turn of the Screw\, Florencia in Florencia en el Amazonas and the title role in the world premiere of the opera Clara\,based on the life of Clara and Robert Schuman. Angela holds a doctorate of musical arts degree from the University of Maryland where she specialized in the study and performance of bel canto repertoire and techniques. Recent achievements include Regional finalist and second place winner of the Metropolitan Opera National council auditions and first place winner in the I Malatesta International Opera Competition. "Marchese has a voice that is liquid gold and honest virtue" wrote a Washington DC reviewer of her recent Michaela performance. Times: Doors open at 7:00 and show starts at 8:00 PM
X-ALT-DESC;FMTTYPE=text/html:Soprano\, Angela Marchese is a passionate and versatile artist. Her &ldquo\;rich\, burnished voice&rdquo\; has thrilled audiences both locally and abroad. Roles performed include Mimi in La Boheme\, Fiordiligi in Cosi fan Tutte\, Rosalinda in Die Fledermaus\, La Contessa in Le Nozze di Figaro\, the title role in Gluck&rsquo\;s Armide\, Micaela in Carmen\, The Governess in Turn of the Screw\, Florencia in Florencia en el Amazonas and the title role in the world premiere of the opera Clara\,based on the life of Clara and Robert Schuman. Angela holds a doctorate of musical arts degree from the University of Maryland where she specialized in the study and performance of bel canto repertoire and techniques. Recent achievements include Regional finalist and second place winner of the Metropolitan Opera National council auditions and first place winner in the I Malatesta International Opera Competition. &ldquo\;Marchese has a voice that is liquid gold and honest virtue&rdquo\; wrote a Washington DC reviewer of her recent Michaela performance. Times: Doors open at 7:00 and show starts at 8:00 PM
LOCATION:
UID:e.2531.9587
SEQUENCE:3
DTSTAMP:20260421T151320Z
URL:https://business.regionalchamber.biz/events/details/angela-marchese-9587
END:VEVENT

END:VCALENDAR
