BEGIN:VCALENDAR
VERSION:2.0
PRODID:-//ChamberMaster//Event Calendar 2.0//EN
METHOD:PUBLISH
X-PUBLISHED-TTL:P3D
REFRESH-INTERVAL:P3D
CALSCALE:GREGORIAN
BEGIN:VEVENT
DTSTART:20260330T213000Z
DTEND:20260331T000000Z
X-MICROSOFT-CDO-ALLDAYEVENT:FALSE
SUMMARY:Animal Welfare Awards
DESCRIPTION:Key Details for 2026 WASPCA Animal Welfare Awards Date: March 30\, 2026. Location: Winchester Country Club. Purpose: To celebrate the organization's no-kill status\, highlight new programs\, and honor community members\, staff\, or volunteers who have made a significant impact on animal welfare. Highlights: The event includes a live auction\, the selection of the WASPCA Mascot of the Year\, and recognition of sponsors. Recognition: The Winchester Area SPCA was previously recognized as the 2025 Humane Organization of the Year by the Virginia Federation of Humane Societies
X-ALT-DESC;FMTTYPE=text/html:Key Details for 2026 WASPCA Animal Welfare Awards Date: March 30\, 2026. Location: Winchester Country Club. Purpose: To celebrate the organization&#39\;s no-kill status\, highlight new programs\, and honor community members\, staff\, or volunteers who have made a significant impact on animal welfare. Highlights: The event includes a live auction\, the selection of the WASPCA Mascot of the Year\, and recognition of sponsors. Recognition: The Winchester Area SPCA was previously recognized as the 2025 Humane Organization of the Year by the Virginia Federation of Humane Societies
LOCATION:Winchester Country Club 1300 Senseny Rd. Winchester\, VA 22602
UID:e.2531.28509
SEQUENCE:3
DTSTAMP:20260426T040253Z
URL:https://business.regionalchamber.biz/events/details/animal-welfare-awards-28509
END:VEVENT

END:VCALENDAR
