BEGIN:VCALENDAR
VERSION:2.0
PRODID:-//ChamberMaster//Event Calendar 2.0//EN
METHOD:PUBLISH
X-PUBLISHED-TTL:P3D
REFRESH-INTERVAL:P3D
CALSCALE:GREGORIAN
BEGIN:VEVENT
DTSTART:20260508T120000Z
DTEND:20260508T210000Z
X-MICROSOFT-CDO-ALLDAYEVENT:FALSE
SUMMARY:Annual Cars Changing Lives Golf Tournament Friday\, May 8\, 2026
DESCRIPTION:Cars Changing Lives Golf Tournament Friday\, May 8\, 2026 Registration: 8:00 AM | Tee Off: 9:00 AM Shenandoah Valley Golf Club   Front Royal\, VA Join Cars Changing Lives for our annual Golf Tournament supporting our mission of putting keys in hands and changing lives through dependable transportation. Proceeds help provide vehicles to individuals and families in need throughout our service area. To learn more\, register\, or become a sponsor\, visit: www.cclvanp.org
X-ALT-DESC;FMTTYPE=text/html:Cars Changing Lives Golf Tournament Friday\, May 8\, 2026 Registration: 8:00 AM | Tee Off: 9:00 AM Shenandoah Valley Golf Club &ndash\; Front Royal\, VA Join Cars Changing Lives for our annual Golf Tournament supporting our mission of putting keys in hands and changing lives through dependable transportation. Proceeds help provide vehicles to individuals and families in need throughout our service area. To learn more\, register\, or become a sponsor\, visit: www.cclvanp.org
LOCATION:Shenandoah Valley Golf Club 134 Golf Club Circle\, Front Royal\, VA 22630
UID:e.2531.28494
SEQUENCE:3
DTSTAMP:20260426T021935Z
URL:https://business.regionalchamber.biz/events/details/annual-cars-changing-lives-golf-tournament-friday-may-8-2026-28494
END:VEVENT

END:VCALENDAR
