BEGIN:VCALENDAR
VERSION:2.0
PRODID:-//ChamberMaster//Event Calendar 2.0//EN
METHOD:PUBLISH
X-PUBLISHED-TTL:P3D
REFRESH-INTERVAL:P3D
CALSCALE:GREGORIAN
BEGIN:VEVENT
DTSTART:20260411T180000Z
DTEND:20260411T200000Z
X-MICROSOFT-CDO-ALLDAYEVENT:FALSE
SUMMARY:Author Event: Brian Gilmore - No More Worlds to Conquer
DESCRIPTION:More than a historical account\, No More Worlds to Conquer is a personal exploration that bridges the past and the present. Gilmore\, who was born and raised in DC\, illuminates this history and reflects on his own place in its literary tradition. This multigenerational account will resonate with poetry enthusiasts\, local DC scholars\, and anyone interested in the rich traditions of African American literature.
X-ALT-DESC;FMTTYPE=text/html:<span style="color:rgb(64\, 64\, 64)\; font-family:roboto\,arial\,helvetica\,sans-serif\; font-size:18px">More than a historical account\, No More Worlds to Conquer is a personal exploration that bridges the past and the present. Gilmore\, who was born and raised in DC\, illuminates this history and reflects on his own place in its literary tradition. This multigenerational account will resonate with poetry enthusiasts\, local DC scholars\, and anyone interested in the rich traditions of African American literature.</span>
LOCATION:Winchester Book Gallery 7 North Loudoun Street\, WInchester\, VA 22601
UID:e.2531.28516
SEQUENCE:3
DTSTAMP:20260426T021752Z
URL:https://business.regionalchamber.biz/events/details/author-event-brian-gilmore-no-more-worlds-to-conquer-28516
END:VEVENT

END:VCALENDAR
