BEGIN:VCALENDAR
VERSION:2.0
PRODID:-//ChamberMaster//Event Calendar 2.0//EN
METHOD:PUBLISH
X-PUBLISHED-TTL:P3D
REFRESH-INTERVAL:P3D
CALSCALE:GREGORIAN
BEGIN:VEVENT
DTSTART:20260516T150000Z
DTEND:20260516T170000Z
X-MICROSOFT-CDO-ALLDAYEVENT:FALSE
SUMMARY:Author Event: Bryan Lienesch - Safe Harbor
DESCRIPTION:Help us welcome back Bryan Lienesch and celebrate his latest book! Jackson Clay returns\, and in an attempt to relax in the wilderness\, finds himself and his friend embroiled in a seemingly spontaneous murder. Join him as he talks with a host of peculiar characters. Can you solve the mystery?
X-ALT-DESC;FMTTYPE=text/html:<div>\n<div>\n<div>\n<p>Help us welcome back Bryan Lienesch and celebrate his latest book! Jackson Clay returns\, and in an attempt to relax in the wilderness\, finds himself and his friend embroiled in a seemingly spontaneous murder. Join him as he talks with a host of peculiar characters. Can you solve the mystery?</p>\n\n<div>&nbsp\;</div>\n</div>\n</div>\n</div>\n\n<div>\n<div>&nbsp\;</div>\n</div>\n
LOCATION:
UID:e.2531.28584
SEQUENCE:3
DTSTAMP:20260421T104340Z
URL:https://business.regionalchamber.biz/events/details/author-event-bryan-lienesch-safe-harbor-28584
END:VEVENT

END:VCALENDAR
