BEGIN:VCALENDAR
VERSION:2.0
PRODID:-//ChamberMaster//Event Calendar 2.0//EN
METHOD:PUBLISH
X-PUBLISHED-TTL:P3D
REFRESH-INTERVAL:P3D
CALSCALE:GREGORIAN
BEGIN:VEVENT
DTSTART:20260509T180000Z
DTEND:20260509T190000Z
X-MICROSOFT-CDO-ALLDAYEVENT:FALSE
SUMMARY:Author Event: C.N. Steinhour - The Lifesaver
DESCRIPTION:When Avery Taylor stumbles across an unconscious classmate in the river\, he fears a life is at stake. Although his quick actions are enough to save Tristan\, Avery's left with more questions than answers about that fateful night: What was Tristan doing in the river in the first place? Could all the rumors about him be true? And why should Avery care so much\, anyway?Joyful and raw\, The Lifesaver is an emotional look at the human connection and how it can change a life in more ways than one.
X-ALT-DESC;FMTTYPE=text/html:<div>\n<div>When Avery Taylor stumbles across an unconscious classmate in the river\, he fears a life is at stake. Although his quick actions are enough to save Tristan\, Avery&#39\;s left with more questions than answers about that fateful night: What was Tristan doing in the river in the first place? Could all the rumors about him be true? And why should Avery care so much\, anyway?Joyful and raw\, The Lifesaver is an emotional look at the human connection and how it can change a life in more ways than one.</div>\n</div>\n\n<div>\n<div>&nbsp\;</div>\n\n<div>\n<div>\n<div>&nbsp\;</div>\n</div>\n</div>\n</div>\n
LOCATION:
UID:e.2531.28583
SEQUENCE:3
DTSTAMP:20260421T104358Z
URL:https://business.regionalchamber.biz/events/details/author-event-c-n-steinhour-the-lifesaver-28583
END:VEVENT

END:VCALENDAR
