BEGIN:VCALENDAR
VERSION:2.0
PRODID:-//ChamberMaster//Event Calendar 2.0//EN
METHOD:PUBLISH
X-PUBLISHED-TTL:P3D
REFRESH-INTERVAL:P3D
CALSCALE:GREGORIAN
BEGIN:VEVENT
DTSTART:20260412T160000Z
DTEND:20260412T180000Z
X-MICROSOFT-CDO-ALLDAYEVENT:FALSE
SUMMARY:Author Event: Greg Kujala - Fifty Artists of the Shenandoah Valley
DESCRIPTION:This first Volume of Artists of the Shenandoah Valley provides an in-depth look at the most talented creatives working out of the Shenandoah Valley in Virginia and West Virginia. An often overlooked group ofartists\, this collection presents a vibrant and multifaceted selection of theart world\, showcasing inspiration and ideas from across the big valley.
X-ALT-DESC;FMTTYPE=text/html:<span style="color:rgb(64\, 64\, 64)\; font-family:roboto\,arial\,helvetica\,sans-serif\; font-size:18px">This first Volume of Artists of the Shenandoah Valley provides an in-depth look at the most talented creatives working out of the Shenandoah Valley in Virginia and West Virginia. An often overlooked group ofartists\, this collection presents a vibrant and multifaceted selection of theart world\, showcasing inspiration and ideas from across the big valley.</span>
LOCATION:Winchester Book Gallery 7 North Loudoun Street\, Winchester\, VA 22601
UID:e.2531.28517
SEQUENCE:3
DTSTAMP:20260426T021935Z
URL:https://business.regionalchamber.biz/events/details/author-event-greg-kujala-fifty-artists-of-the-shenandoah-valley-28517
END:VEVENT

END:VCALENDAR
