BEGIN:VCALENDAR
VERSION:2.0
PRODID:-//ChamberMaster//Event Calendar 2.0//EN
METHOD:PUBLISH
X-PUBLISHED-TTL:P3D
REFRESH-INTERVAL:P3D
CALSCALE:GREGORIAN
BEGIN:VEVENT
DTSTART:20260411T150000Z
DTEND:20260411T170000Z
X-MICROSOFT-CDO-ALLDAYEVENT:FALSE
SUMMARY:Author Event: Harmony Joy - Dark Nights of the Soul
DESCRIPTION:Centered around four emergency hospitalizations for "behavioral health" over the course of eight years\, Dark Nights of The Soul newly honors the turmoil of trying times -while supplementing them with the greater perspective that comes with growth and reflection. Ultimately\, it navigates a journey from seemingly impossible pain and fear\, doubt and darkness into abundant healing and hope\, faith and light. \n\nJoin us for Harmony Lee's event this Saturday!
X-ALT-DESC;FMTTYPE=text/html:<p>Centered around four emergency hospitalizations for &quot\;behavioral health&quot\; over the course of eight years\, Dark Nights of The Soul newly honors the turmoil of trying times -while supplementing them with the greater perspective that comes with growth and reflection. Ultimately\, it navigates a journey from seemingly impossible pain and fear\, doubt and darkness into abundant healing and hope\, faith and light.&nbsp\;</p>\n\n<p>Join us for Harmony Lee&#39\;s event this Saturday!</p>\n
LOCATION:Winchester Book Gallery 7 North Loudoun Street\, Winchester\, VA 22601
UID:e.2531.28515
SEQUENCE:3
DTSTAMP:20260426T021910Z
URL:https://business.regionalchamber.biz/events/details/author-event-harmony-joy-dark-nights-of-the-soul-28515
END:VEVENT

END:VCALENDAR
