BEGIN:VCALENDAR
VERSION:2.0
PRODID:-//ChamberMaster//Event Calendar 2.0//EN
METHOD:PUBLISH
X-PUBLISHED-TTL:P3D
REFRESH-INTERVAL:P3D
CALSCALE:GREGORIAN
BEGIN:VEVENT
DTSTART:20260502T150000Z
DTEND:20260502T170000Z
X-MICROSOFT-CDO-ALLDAYEVENT:FALSE
SUMMARY:Author Event: James and Nichole - 'Twas Night Before Apple Blossom
DESCRIPTION:Within 'Twas the Night Before Apple Blossom\, there are illustrations in a series of watercolor style images commissioned to capture the festival experience. As a loose adaptation of "'Twas the Night Before Christmas"\, it is written in poetic style with some traditional lines and historical facts interwoven into the personal narrative. The book shares about the significance of the apple orchards throughout the region and describes several key elements of the Festival including the Firefighters' Parade\, the Grand Feature Parade\, Fireworks over Handley and the Midway/Carnival.
X-ALT-DESC;FMTTYPE=text/html:Within &#39\;Twas the Night Before Apple Blossom\, there are illustrations in a series of watercolor style images commissioned to capture the festival experience. As a loose adaptation of &ldquo\;&rsquo\;Twas the Night Before Christmas&rdquo\;\, it is written in poetic style with some traditional lines and historical facts interwoven into the personal narrative. The book shares about the significance of the apple orchards throughout the region and describes several key elements of the Festival including the Firefighters&rsquo\; Parade\, the Grand Feature Parade\, Fireworks over Handley and the Midway/Carnival.
LOCATION:
UID:e.2531.28580
SEQUENCE:3
DTSTAMP:20260421T104442Z
URL:https://business.regionalchamber.biz/events/details/author-event-james-and-nichole-twas-night-before-apple-blossom-28580
END:VEVENT

END:VCALENDAR
