BEGIN:VCALENDAR
VERSION:2.0
PRODID:-//ChamberMaster//Event Calendar 2.0//EN
METHOD:PUBLISH
X-PUBLISHED-TTL:P3D
REFRESH-INTERVAL:P3D
CALSCALE:GREGORIAN
BEGIN:VEVENT
DTSTART:20260531T040000Z
DTEND:20260531T180000Z
X-MICROSOFT-CDO-ALLDAYEVENT:FALSE
SUMMARY:Author Event: James Blakey - Shenandoah Fantastic
DESCRIPTION:Get the latest from local author James Blakey\, SHENANDOAH FANTASTIC\, and experience the Valley like never before!\n\nTime travelers at the Shakespeare Center Space aliens at Route 11 Potato Chips Trolls beneath Luray Caverns \n\nTwenty-four stories of fantasy\, horror\, and science fiction in all.
X-ALT-DESC;FMTTYPE=text/html:<p>Get the latest from local author James Blakey\, SHENANDOAH FANTASTIC\, and experience the Valley like never before!</p>\n\n<p>Time travelers at the Shakespeare Center&hellip\;Space aliens at Route 11 Potato Chips&hellip\;Trolls beneath Luray Caverns&hellip\;</p>\n\n<p>Twenty-four stories of fantasy\, horror\, and science fiction in all.</p>\n
LOCATION:
UID:e.2531.28588
SEQUENCE:3
DTSTAMP:20260421T104440Z
URL:https://business.regionalchamber.biz/events/details/author-event-james-blakey-shenandoah-fantastic-05-31-2026-28588
END:VEVENT

END:VCALENDAR
