BEGIN:VCALENDAR
VERSION:2.0
PRODID:-//ChamberMaster//Event Calendar 2.0//EN
METHOD:PUBLISH
X-PUBLISHED-TTL:P3D
REFRESH-INTERVAL:P3D
CALSCALE:GREGORIAN
BEGIN:VEVENT
DTSTART:20260404T180000Z
DTEND:20260404T200000Z
X-MICROSOFT-CDO-ALLDAYEVENT:FALSE
SUMMARY:Author Event: Jason Bucklew - Helixandra
DESCRIPTION:A fast-paced survival thriller about a group stranded on a hidden island filled with prehistoric creatures\, dark secrets\, and a mastermind pulling the strings. Survival isn't guaranteed-and escape may come at a deadly cost. Please welcome Jason to the shop and grab a signed copy of his book!
X-ALT-DESC;FMTTYPE=text/html:<span style="color:rgb(64\, 64\, 64)\; font-family:roboto\,arial\,helvetica\,sans-serif\; font-size:18px">A fast-paced survival thriller about a group stranded on a hidden island filled with prehistoric creatures\, dark secrets\, and a mastermind pulling the strings. Survival isn&#39\;t guaranteed-and escape may come at a deadly cost. Please welcome Jason to the shop and grab a signed copy of his book!</span>
LOCATION:Winchester Book Gallery 7 North Loudun Street\, Winchester\, VA 22601
UID:e.2531.28514
SEQUENCE:3
DTSTAMP:20260426T021905Z
URL:https://business.regionalchamber.biz/events/details/author-event-jason-bucklew-helixandra-28514
END:VEVENT

END:VCALENDAR
