BEGIN:VCALENDAR
VERSION:2.0
PRODID:-//ChamberMaster//Event Calendar 2.0//EN
METHOD:PUBLISH
X-PUBLISHED-TTL:P3D
REFRESH-INTERVAL:P3D
CALSCALE:GREGORIAN
BEGIN:VEVENT
DTSTART:20260404T150000Z
DTEND:20260404T170000Z
X-MICROSOFT-CDO-ALLDAYEVENT:FALSE
SUMMARY:Author Event: Linda Ruth Lee - Way Beyond
DESCRIPTION:With unflinching honesty and emotional depth\, Linda Ruth Lee invites readers into her journey through shame\, secrecy\, and resilience. As a fifteen year old teenager facing an unexpected pregnancy in an unforgiving era\, Linda makes a life-altering decision one that reverberates through her family for years to come. But this is not just a story of loss or regret. It's a testament to the power of love\, forgiveness\, and the incredible ways life can be fulfilling.
X-ALT-DESC;FMTTYPE=text/html:<span style="color:rgb(64\, 64\, 64)\; font-family:roboto\,arial\,helvetica\,sans-serif\; font-size:18px">With unflinching honesty and emotional depth\, Linda Ruth Lee invites readers into her journey through shame\, secrecy\, and resilience. As a fifteen year old teenager facing an unexpected pregnancy in an unforgiving era\, Linda makes a life-altering decision&mdash\;one that reverberates through her family for years to come. But this is not just a story of loss or regret. It&rsquo\;s a testament to the power of love\, forgiveness\, and the incredible ways life can be fulfilling.</span>
LOCATION:Winchester Book Gallery 7 North Loudoun Street\, Winchester\, VA 22601
UID:e.2531.28513
SEQUENCE:3
DTSTAMP:20260426T021753Z
URL:https://business.regionalchamber.biz/events/details/author-event-linda-ruth-lee-way-beyond-28513
END:VEVENT

END:VCALENDAR
