BEGIN:VCALENDAR
VERSION:2.0
PRODID:-//ChamberMaster//Event Calendar 2.0//EN
METHOD:PUBLISH
X-PUBLISHED-TTL:P3D
REFRESH-INTERVAL:P3D
CALSCALE:GREGORIAN
BEGIN:VEVENT
DTSTART:20260509T150000Z
DTEND:20260509T170000Z
X-MICROSOFT-CDO-ALLDAYEVENT:FALSE
SUMMARY:Author Event: Patti Bonesteel - Ramona and Izzy I’ll Be Here for You
DESCRIPTION:We are excited to welcome Patti Bonesteel to the bookstore! Patti lives inBaldwinsville\, NY with her husband\, Bob\, and their four daughters. After 25years teaching elementary school and a lifelong love of nature\, she poured herexperiences into titles like  "The Flamingo with Two LeftFeet\," "Amari and the Big Surprise  It's Not Monkey Bread\,""Search!: Adventures of Peyote and Violet\," "Barkley and LeaveIt to the Beavers\," "We Can  and We Do\," and her newest\, "Ramona and Izzy I'll Be Here for You." She will be at the shop to sign copies of all of her books. Come meet Patti and picked up a signed copy or two!
X-ALT-DESC;FMTTYPE=text/html:<div>\n<div>\n<div>\n<p>We are excited to welcome Patti Bonesteel to the bookstore! Patti lives inBaldwinsville\, NY with her husband\, Bob\, and their four daughters. After 25years teaching elementary school and a lifelong love of nature\, she poured herexperiences into titles like&nbsp\;&nbsp\;<em>&quot\;The Flamingo with Two LeftFeet\,&quot\; &quot\;Amari and the Big Surprise&hellip\; It&rsquo\;s Not Monkey Bread\,&quot\;&quot\;Search!: Adventures of Peyote and Violet\,&quot\; &quot\;Barkley and LeaveIt to the Beavers\,&quot\; &quot\;We Can&hellip\; and We Do\,&quot\;</em>&nbsp\;and her newest\, &quot\;Ramona and Izzy I&rsquo\;ll Be Here for You.&quot\;<em>&nbsp\;</em>She will be at the shop to sign copies of all of her books. Come meet Patti and picked up a signed copy or two!</p>\n</div>\n</div>\n</div>\n
LOCATION:
UID:e.2531.28582
SEQUENCE:3
DTSTAMP:20260426T040023Z
URL:https://business.regionalchamber.biz/events/details/author-event-patti-bonesteel-ramona-and-izzy-i-ll-be-here-for-you-28582
END:VEVENT

END:VCALENDAR
