BEGIN:VCALENDAR
VERSION:2.0
PRODID:-//ChamberMaster//Event Calendar 2.0//EN
METHOD:PUBLISH
X-PUBLISHED-TTL:P3D
REFRESH-INTERVAL:P3D
CALSCALE:GREGORIAN
BEGIN:VEVENT
DTSTART:20240413T180000Z
DTEND:20240413T200000Z
X-MICROSOFT-CDO-ALLDAYEVENT:FALSE
SUMMARY:Author Event: Stephanie Bruno - The Recipe for Yellow
DESCRIPTION:In The Recipe for Yellow\, Pia Price\, a mid-30s artist\, explores the depths of family\, grief\, and self-discovery as she navigates the idea of growing up\, on her own timeline. The novel delves into the family ties that shape her identity. Pia's journey\, set in the Shenandoah Valley in a house filled with four generations of women\, reveals the profound impact of human connections and the quest for meaning. Her introspective and emotionally charged tale offers a poignant exploration of life's complexities. Come meet the Winchester-raised author and join us in celebrating her debut novel.
X-ALT-DESC;FMTTYPE=text/html:<span style="color:rgb(60\, 64\, 67)\; font-family:roboto\,arial\,sans-serif\; font-size:14px">In The Recipe for Yellow\, Pia Price\, a mid-30s artist\, explores the depths of family\, grief\, and self-discovery as she navigates the idea of growing up\, on her own timeline. The novel delves into the family ties that shape her identity. Pia&#39\;s journey\, set in the Shenandoah Valley in a house filled with four generations of women\, reveals the profound impact of human connections and the quest for meaning. Her introspective and emotionally charged tale offers a poignant exploration of life&#39\;s complexities. Come meet the Winchester-raised author and join us in celebrating her debut novel.</span>
LOCATION:Winchester Book Gallery 7 N Loudoun Street Winchester\, VA 22601
UID:e.2531.21377
SEQUENCE:3
DTSTAMP:20260425T152456Z
URL:https://business.regionalchamber.biz/events/details/author-event-stephanie-bruno-the-recipe-for-yellow-21377
END:VEVENT

END:VCALENDAR
