BEGIN:VCALENDAR
VERSION:2.0
PRODID:-//ChamberMaster//Event Calendar 2.0//EN
METHOD:PUBLISH
X-PUBLISHED-TTL:P3D
REFRESH-INTERVAL:P3D
CALSCALE:GREGORIAN
BEGIN:VEVENT
DTSTART:20260523T150000Z
DTEND:20260523T170000Z
X-MICROSOFT-CDO-ALLDAYEVENT:FALSE
SUMMARY:Author Event: Steven Gellman - Somewhere in Nowhere
DESCRIPTION:Navigating a new school is hard\, but what if you're also worried that there might be an alien in your stomach? Join author Steven Gellman as we celebrate his new coming-of-age novel Somewhere in Nowhere. This story follows teenager Simon as he's unexpectedly spending his senior year at a new school with new friends and (maybe) a new crush while also trying to sort out the strange "attacks" he's experiencing every night. Steven will be in the store to sign copies\, chat about his book\, and answer any questions you might have!
X-ALT-DESC;FMTTYPE=text/html:<div>\n<div>\n<div>\n<p>Navigating a new school is hard\, but what if you&rsquo\;re also worried that there might be an alien in your stomach? Join author&nbsp\;Steven Gellman&nbsp\;as we celebrate his new coming-of-age novel&nbsp\;<em>Somewhere in Nowhere</em>.&nbsp\;This story follows teenager Simon as he&rsquo\;s unexpectedly spending his senior year at a new school with new friends and (maybe) a new crush while also trying to sort out the strange &ldquo\;attacks&rdquo\; he&rsquo\;s experiencing every night. Steven will be in the store to sign copies\, chat about his book\, and answer any questions you might have!</p>\n\n<div>&nbsp\;</div>\n</div>\n</div>\n</div>\n\n<div>\n<div>&nbsp\;</div>\n</div>\n
LOCATION:
UID:e.2531.28587
SEQUENCE:3
DTSTAMP:20260426T035922Z
URL:https://business.regionalchamber.biz/events/details/author-event-steven-gellman-somewhere-in-nowhere-28587
END:VEVENT

END:VCALENDAR
