BEGIN:VCALENDAR
VERSION:2.0
PRODID:-//ChamberMaster//Event Calendar 2.0//EN
METHOD:PUBLISH
X-PUBLISHED-TTL:P3D
REFRESH-INTERVAL:P3D
CALSCALE:GREGORIAN
BEGIN:VEVENT
DTSTART:20260517T040000Z
DTEND:20260517T180000Z
X-MICROSOFT-CDO-ALLDAYEVENT:FALSE
SUMMARY:Author Event: Vesper Doom - The Binding of Bloom Mountain
DESCRIPTION:After losing her job with the US Forestry Service\, Celeste Foster makes a desperate gamble by answering an ad for a job in rural Virginia. Before she understands what's happening\, she agrees to hike up a cursed mountain to save a town from annihilation. Armed with a bag of ritual items\, a recording\, and the hopes of the pretty barista who helped her\, Celeste starts up Bloom Mountain. Vesper Doom returns with her book\, perfect for fans of A.J. White- grab your signed copy today!
X-ALT-DESC;FMTTYPE=text/html:<div>\n<div>\n<p>After losing her job with the US Forestry Service\, Celeste Foster makes a desperate gamble by answering an ad for a job in rural Virginia. Before she understands what&#39\;s happening\, she agrees to hike up a cursed mountain to save a town from annihilation. Armed with a bag of ritual items\, a recording\, and the hopes of the pretty barista who helped her\, Celeste starts up Bloom Mountain.&nbsp\;Vesper Doom returns with her book\, perfect for fans of A.J. White- grab your signed copy today!</p>\n</div>\n</div>\n\n<div>\n<div>&nbsp\;</div>\n\n<div>\n<div>\n<div>&nbsp\;</div>\n</div>\n</div>\n</div>\n
LOCATION:
UID:e.2531.28585
SEQUENCE:3
DTSTAMP:20260426T035948Z
URL:https://business.regionalchamber.biz/events/details/author-event-vesper-doom-the-binding-of-bloom-mountain-28585
END:VEVENT

END:VCALENDAR
