BEGIN:VCALENDAR
VERSION:2.0
PRODID:-//ChamberMaster//Event Calendar 2.0//EN
METHOD:PUBLISH
X-PUBLISHED-TTL:P3D
REFRESH-INTERVAL:P3D
CALSCALE:GREGORIAN
BEGIN:VEVENT
DTSTART:20260502T180000Z
DTEND:20260502T190000Z
X-MICROSOFT-CDO-ALLDAYEVENT:FALSE
SUMMARY:Author Event: William F. Gray - It Sleeps Below
DESCRIPTION:After thirteen-year-old Samantha Morris almost drowned in her parents' lake\, the nightmares that followed paled in comparison to the real-life horrors of watching her mother descend into madness. By the end of the summer\, Kate Morris disappeared without a trace. Now an adult\, Samantha is faced with another unexpected loss in her partner Ellie as well as the return of the nightmares.\n\nOnly now\, they're bleeding into her waking hours\, forcing her to question herown sanity\, and they're only getting worse. As the line between real and imaginary continue to blur\, physical manifestations of her dreams beg the question: is she losing her mind like her mother\, or is she being targeted by something far more sinister? Love craftian cosmic horror and dark mystery meet to form It Sleeps Below\, a horror novel with grief and loss at its black\, beating heart.
X-ALT-DESC;FMTTYPE=text/html:<span style="background-color:rgb(240\, 244\, 249)\; color:rgb(31\, 31\, 31)\; font-family:google sans\,roboto\,arial\,sans-serif\; font-size:14px">After thirteen-year-old Samantha Morris almost drowned in her parents&rsquo\; lake\, the nightmares that followed paled in comparison to the real-life horrors of watching her mother descend into madness. By the end of the summer\, Kate Morris disappeared without a trace. Now an adult\, Samantha is faced with another unexpected loss in her partner Ellie as well as the return of the nightmares.</span><br />\n<span style="background-color:rgb(240\, 244\, 249)\; color:rgb(31\, 31\, 31)\; font-family:google sans\,roboto\,arial\,sans-serif\; font-size:14px">Only now\, they&rsquo\;re bleeding into her waking hours\, forcing her to question herown sanity\, and they&rsquo\;re only getting worse. As the line between real and imaginary continue to blur\, physical manifestations of her dreams beg the question: is she losing her mind like her mother\, or is she being targeted by something far more sinister? Love craftian cosmic horror and dark mystery meet to form </span><em>It Sleeps Below</em><span style="background-color:rgb(240\, 244\, 249)\; color:rgb(31\, 31\, 31)\; font-family:google sans\,roboto\,arial\,sans-serif\; font-size:14px">\, a horror novel with grief and loss at its black\, beating heart.</span>
LOCATION:
UID:e.2531.28581
SEQUENCE:3
DTSTAMP:20260426T035949Z
URL:https://business.regionalchamber.biz/events/details/author-event-william-f-gray-it-sleeps-below-28581
END:VEVENT

END:VCALENDAR
