BEGIN:VCALENDAR
VERSION:2.0
PRODID:-//ChamberMaster//Event Calendar 2.0//EN
METHOD:PUBLISH
X-PUBLISHED-TTL:P3D
REFRESH-INTERVAL:P3D
CALSCALE:GREGORIAN
BEGIN:VEVENT
DTSTART:20240426T230000Z
DTEND:20240427T035500Z
X-MICROSOFT-CDO-ALLDAYEVENT:FALSE
SUMMARY:Ballyhoo! w/ The Quasi Kings
DESCRIPTION:FRIDAY\, APRIL 26TH\n\nDOORS\, BAR\, & KITCHEN OPEN at 7PM\n\nSHOW at 8PM\n\n \n\nTICKETS\n\nGENERAL ADMISSION: $23 + admission tax & processing fee\n\nDOS: $28 + admission tax & processing fee\n\nAdvance ticket sales end at 11:30PM the day before the show. If tickets are not sold out by this time they will be available for purchase when the doors open.\n\nALL TICKET SALES ARE FINAL. NO REFUNDS. NO EXCHANGES unless the show is postponed or canceled\n\n \n\nIMPORTANT INFO - PLEASE READ\n\nGENERAL ADMISSION\n\nVery limited seating is available on a first come\, first served basis. Be sure to wear your party pants and your dancing shoes!\n\nALL AGES\n\nFOOD & DRINK available for purchase\n\n________________________________________________________
X-ALT-DESC;FMTTYPE=text/html:<h2>FRIDAY\, APRIL 26TH</h2>\n\n<h3>DOORS\, BAR\, &amp\; KITCHEN OPEN at 7PM</h3>\n\n<h3>SHOW at 8PM</h3>\n\n<p>&nbsp\;</p>\n\n<h2>TICKETS</h2>\n\n<h3>GENERAL ADMISSION: $23 + admission tax &amp\; processing fee</h3>\n\n<h3>DOS: $28 + admission tax &amp\; processing fee</h3>\n\n<h3>Advance ticket sales end at 11:30PM the day before the show. If tickets are not sold out by this time they will be available for purchase when the doors open.</h3>\n\n<h3>ALL TICKET SALES ARE FINAL. NO REFUNDS. NO EXCHANGES unless the show is postponed or canceled</h3>\n\n<p>&nbsp\;</p>\n\n<h2>IMPORTANT INFO - PLEASE READ</h2>\n\n<h3>GENERAL ADMISSION</h3>\n\n<h3><strong>Very limited seating</strong> is available on a first come\, first served basis. Be sure to wear your party pants and your dancing shoes!</h3>\n\n<h3>ALL AGES</h3>\n\n<h3>FOOD &amp\; DRINK available for purchase</h3>\n\n<p>________________________________________________________</p>\n
LOCATION:Bright Box 15 N. Loudoun St. Winchester\, VA 22601
UID:e.2531.21407
SEQUENCE:3
DTSTAMP:20260425T164841Z
URL:https://business.regionalchamber.biz/events/details/ballyhoo-w-the-quasi-kings-21407
END:VEVENT

END:VCALENDAR
