BEGIN:VCALENDAR
VERSION:2.0
PRODID:-//ChamberMaster//Event Calendar 2.0//EN
METHOD:PUBLISH
X-PUBLISHED-TTL:P3D
REFRESH-INTERVAL:P3D
CALSCALE:GREGORIAN
BEGIN:VEVENT
DTSTART:20190504T180000Z
DTEND:20190504T200000Z
X-MICROSOFT-CDO-ALLDAYEVENT:FALSE
SUMMARY:Book Signing: Gareth Frank - The Moment Between: A Novel
DESCRIPTION:After four years of mourning\, Doctor Hackett Metzger is determined to stop letting his wife's death control his life. He is finally beginning to live again\, but his recovery leads to an unexpected fight for his own survival and startling revelations about what happens to all of us in The Moment Between.
X-ALT-DESC;FMTTYPE=text/html:<span style="color:rgb(102\, 102\, 102)\; font-family:raleway\,sans-serif\; font-size:14px">After four years of mourning\, Doctor Hackett Metzger is determined to stop letting his wife&#39\;s death control his life. He is finally beginning to live again\, but his recovery leads to an unexpected fight for his own survival and startling revelations about what happens to all of us in The Moment Between.</span>
LOCATION:Winchester Book Gallery 7 N Loudoun St Winchester\, VA 22601
UID:e.2531.9616
SEQUENCE:3
DTSTAMP:20260421T151418Z
URL:https://business.regionalchamber.biz/events/details/book-signing-gareth-frank-the-moment-between-a-novel-9616
END:VEVENT

END:VCALENDAR
