BEGIN:VCALENDAR
VERSION:2.0
PRODID:-//ChamberMaster//Event Calendar 2.0//EN
METHOD:PUBLISH
X-PUBLISHED-TTL:P3D
REFRESH-INTERVAL:P3D
CALSCALE:GREGORIAN
BEGIN:VEVENT
DTSTART:20240428T013000Z
DTEND:20240428T033000Z
X-MICROSOFT-CDO-ALLDAYEVENT:FALSE
SUMMARY:Bright Box Comedy Showcase [9:30PM SHOW]
DESCRIPTION:LATE SHOW\n\nGENERAL ADMISSION DOORS at 9PM\n\nSHOW at 9:30PM\n\nTICKETS\n\nGENERAL ADMISSION: $15 + admission tax & processing fee\n\nDOOR: $18 + admission tax\n\nAdvance ticket sales end at 8:30PM the day of the show. If tickets are not sold out by this time they will be available for purchase when the doors open.\n\nALL TICKET SALES ARE FINAL unless the show is cancelled or rescheduled\n\n \n\nIMPORTANT INFO\n\nThis is an all-seated event\n\nGENERAL ADMISSION - arrive early for best choice of seating\n\nDue to mature content\, this show is AGES 18+\n\nFOOD & DRINK available for purchase\n\n________________________________________________________
X-ALT-DESC;FMTTYPE=text/html:<h2>LATE SHOW</h2>\n\n<p>GENERAL ADMISSION DOORS at 9PM</p>\n\n<p>SHOW at 9:30PM</p>\n\n<p>TICKETS</p>\n\n<p>GENERAL ADMISSION: $15 + admission tax &amp\; processing fee</p>\n\n<p>DOOR: $18 + admission tax</p>\n\n<p>Advance ticket sales end at 8:30PM the day of the show. If tickets are not sold out by this time they will be available for purchase when the doors open.</p>\n\n<p>ALL TICKET SALES ARE FINAL unless the show is cancelled or rescheduled</p>\n\n<p>&nbsp\;</p>\n\n<h2>IMPORTANT INFO</h2>\n\n<p><em>This is an all-seated event</em></p>\n\n<p>GENERAL ADMISSION - arrive early for best choice of seating</p>\n\n<p>Due to mature content\, this show is AGES 18+</p>\n\n<p>FOOD &amp\; DRINK available for purchase</p>\n\n<p>________________________________________________________</p>\n\n<p>&nbsp\;</p>\n
LOCATION:Where do I park? Bright Box is located at 15 N. Loudoun St. on the beautiful pedestrian mall in Old Town Winchester. The nearest parking is the Braddock Auto Park at 30 N Braddock St. This is about a block away from the venue. The parking garage does have several handicap parking spaces available. Once you've parked in the garage you'll exit toward the pedestrian mall. Once you hit N. Loudoun you'll make a right and Bright Box will be on your right a few storefronts up\, directly across from the Old Court House Civil War Museum More information about the garage can be found here: https://www.winchesterva.gov/parking/garage-information
UID:e.2531.21493
SEQUENCE:3
DTSTAMP:20260425T164717Z
URL:https://business.regionalchamber.biz/events/details/bright-box-comedy-showcase-9-30pm-show-21493
END:VEVENT

END:VCALENDAR
