BEGIN:VCALENDAR
VERSION:2.0
PRODID:-//ChamberMaster//Event Calendar 2.0//EN
METHOD:PUBLISH
X-PUBLISHED-TTL:P3D
REFRESH-INTERVAL:P3D
CALSCALE:GREGORIAN
BEGIN:VEVENT
DTSTART:20240403T140000Z
DTEND:20240403T180000Z
X-MICROSOFT-CDO-ALLDAYEVENT:FALSE
SUMMARY:Career and Internship Fair
DESCRIPTION:Join us for a career and internship fair 10 a.m. to 2 p.m.\, Wednesday\, April 3\, in the Corron Community Development Center on Laurel Ridge's Middletown Campus. More than 50 employers\, representating the banking\, healthcare\, dental\, government\, hospitality\, public safety\, trades and many\, many more industries\, will be on hand.
X-ALT-DESC;FMTTYPE=text/html:Join us for a career and internship fair 10 a.m. to 2 p.m.\, Wednesday\, April 3\, in the Corron Community Development Center on Laurel Ridge&#39\;s Middletown Campus. More than 50 employers\, representating the banking\, healthcare\, dental\, government\, hospitality\, public safety\, trades and many\, many more industries\, will be on hand.
LOCATION:Corron Community Development Center Laurel Ridge Community College 173 Skirmisher Lane Middletown\, VA 22645
UID:e.2531.21368
SEQUENCE:3
DTSTAMP:20260425T164728Z
URL:https://business.regionalchamber.biz/events/details/career-and-internship-fair-04-03-2024-21368
END:VEVENT

END:VCALENDAR
