BEGIN:VCALENDAR
VERSION:2.0
PRODID:-//ChamberMaster//Event Calendar 2.0//EN
METHOD:PUBLISH
X-PUBLISHED-TTL:P3D
REFRESH-INTERVAL:P3D
CALSCALE:GREGORIAN
BEGIN:VEVENT
DTSTART:20260408T140000Z
DTEND:20260408T180000Z
X-MICROSOFT-CDO-ALLDAYEVENT:FALSE
SUMMARY:Career and Internship Fair
DESCRIPTION:The community is welcome to attend our Career and Internship Fair\, 10 a.m. to 2 p.m.\, Wednesday\, April 8\, in the Corron Community Development Center. There will be representatives from various industries\, including healthcare\, education\, finance\, corrections and the skilled trades.
X-ALT-DESC;FMTTYPE=text/html:The community is welcome to attend our Career and Internship Fair\, 10 a.m. to 2 p.m.\, Wednesday\, April 8\, in the Corron Community Development Center. There will be representatives from various industries\, including healthcare\, education\, finance\, corrections and the skilled trades.
LOCATION:Laurel Ridge Community College Corron Community Development Center
UID:e.2531.28502
SEQUENCE:3
DTSTAMP:20260426T021905Z
URL:https://business.regionalchamber.biz/events/details/career-and-internship-fair-04-08-2026-28502
END:VEVENT

END:VCALENDAR
