BEGIN:VCALENDAR
VERSION:2.0
PRODID:-//ChamberMaster//Event Calendar 2.0//EN
METHOD:PUBLISH
X-PUBLISHED-TTL:P3D
REFRESH-INTERVAL:P3D
CALSCALE:GREGORIAN
BEGIN:VEVENT
DTSTART:20240421T190000Z
DTEND:20240421T223000Z
X-MICROSOFT-CDO-ALLDAYEVENT:FALSE
SUMMARY:Cash Unchained: The Ultimate Tribute to Johnny Cash [3PM SHOW]
DESCRIPTION:SUNDAY\, APRIL 21\n\nDOORS\, BAR\, & KITCHEN OPEN at 2PM\n\nSHOW at 3PM\n\n \n\nTICKETS\n\nGENERAL ADMISSION: $22 + admission tax & processing fee\n\nDAY OF SHOW: $25 + admission tax & processing fee\n\nAdvance ticket sales end at 11:30pm the day before the show. If tickets are not sold out by this time they will be available for purchase when the doors open.\n\nALL TICKET SALES ARE FINAL. NO REFUNDS OR EXCHANGES unless the show is postponed or cancelled\n\n \n\nIMPORTANT INFO\n\nThis is an all-seated event in the theater\n\nGENERAL ADMISSION - arrive early for best choice of seating\n\nAll ages\n\nFOOD & DRINK available for purchase\n\n________________________________________________________
X-ALT-DESC;FMTTYPE=text/html:<h2>SUNDAY\, APRIL 21</h2>\n\n<h3>DOORS\, BAR\, &amp\; KITCHEN OPEN at 2PM</h3>\n\n<h3>SHOW at 3PM</h3>\n\n<p>&nbsp\;</p>\n\n<h2>TICKETS</h2>\n\n<h3>GENERAL ADMISSION: $22 + admission tax &amp\; processing fee</h3>\n\n<h3>DAY OF SHOW: $25 + admission tax &amp\; processing fee</h3>\n\n<h3>Advance ticket sales end at 11:30pm the day before the show. If tickets are not sold out by this time they will be available for purchase when the doors open.</h3>\n\n<h3>ALL TICKET SALES ARE FINAL. NO REFUNDS OR EXCHANGES unless the show is postponed or cancelled</h3>\n\n<p>&nbsp\;</p>\n\n<h2>IMPORTANT INFO</h2>\n\n<h3>This is an all-seated event in the theater</h3>\n\n<h3>GENERAL ADMISSION - arrive early for best choice of seating</h3>\n\n<h3>All ages</h3>\n\n<h3>FOOD &amp\; DRINK available for purchase</h3>\n\n<p>________________________________________________________</p>\n
LOCATION:Bright Box 15 N Loudoun St. Winchester\, VA 22601
UID:e.2531.21404
SEQUENCE:3
DTSTAMP:20260425T164856Z
URL:https://business.regionalchamber.biz/events/details/cash-unchained-the-ultimate-tribute-to-johnny-cash-3pm-show-21404
END:VEVENT

END:VCALENDAR
