BEGIN:VCALENDAR
VERSION:2.0
PRODID:-//ChamberMaster//Event Calendar 2.0//EN
METHOD:PUBLISH
X-PUBLISHED-TTL:P3D
REFRESH-INTERVAL:P3D
CALSCALE:GREGORIAN
BEGIN:VEVENT
DTSTART:20240406T160000Z
DTEND:20240406T170000Z
X-MICROSOFT-CDO-ALLDAYEVENT:FALSE
SUMMARY:Champagne Saturday
DESCRIPTION:Join us for this fun event trying different Champagnes.   We will open 3 different champagnes for you to enjoy.   This is an amazing region in France with lots of history.  Lets talk about this lovely wine together and see what it has to offer.   Join us every 1st Saturday from 12pm-1pm
X-ALT-DESC;FMTTYPE=text/html:<span style="color:rgb(25\, 25\, 25)\; font-family:oxygen\,sans-serif\; font-size:15.52px">Join us for this fun event trying different Champagnes.&nbsp\; &nbsp\;We will open 3 different champagnes for you to enjoy.&nbsp\; &nbsp\;This is an amazing region in France with lots of history.&nbsp\; Lets talk about this lovely wine together and see what it has to offer.&nbsp\; &nbsp\;Join us every 1st Saturday from 12pm-1pm&nbsp\;&nbsp\;</span>
LOCATION:450 Green Spring Rd\, Winchester\, VA 22603
UID:e.2531.21517
SEQUENCE:3
DTSTAMP:20260425T164834Z
URL:https://business.regionalchamber.biz/events/details/champagne-saturday-04-06-2024-21517
END:VEVENT

END:VCALENDAR
