BEGIN:VCALENDAR
VERSION:2.0
PRODID:-//ChamberMaster//Event Calendar 2.0//EN
METHOD:PUBLISH
X-PUBLISHED-TTL:P3D
REFRESH-INTERVAL:P3D
CALSCALE:GREGORIAN
BEGIN:VEVENT
DTSTART:20240413T130000Z
DTEND:20240413T180000Z
X-MICROSOFT-CDO-ALLDAYEVENT:FALSE
SUMMARY:ChildSafe Center - CAC Superhero 5k and Kids' Run
DESCRIPTION:Superhero 5k and Kids' Run! Benefiting the ChildSafe Center-CAC Saturday\, April 13\, 2024\, 9:00a.m. Greenwood Mill Elementary School (Rain or Shine) Many sponsorship levels available! Deadline to sponsor is April 1. Please return payment and sponsorship form to: ChildSafe Center CAC\; ATT: Race Director 117 E. Piccadilly Street\, Suite 300\, Winchester\, VA 22601 (Make checks payable to the ChildSafe Center CAC and write Superhero 5k in memo line.) Please send logo to jody_wall@yahoo.com. For additional information and questions contact jody_wall@yahoo.com. For more information regarding the ChildSafe Center-CAC: - Like us on Facebook: ChildSafe Center-CAC - Visit our website at www.childsafecenter.com REGISTER TO RUN: https://runsignup.com/Race/VA/Winchester/Champions4ChildrenSuperhero5kandKidsRun?fbclid=IwAR3C8Ay_gBvfb2aFA-aAOcaGXdR8_OPdwtt0poXPWqKnpd70SQANGtykzLQ
X-ALT-DESC;FMTTYPE=text/html:Superhero 5k and Kids&rsquo\; Run! Benefiting the ChildSafe Center-CAC Saturday\, April 13\, 2024\, 9:00a.m. Greenwood Mill Elementary School (Rain or Shine) Many sponsorship levels available! Deadline to sponsor is April 1. Please return payment and sponsorship form to: ChildSafe Center CAC\; ATT: Race Director 117 E. Piccadilly Street\, Suite 300\, Winchester\, VA 22601 (Make checks payable to the ChildSafe Center CAC and write Superhero 5k in memo line.) Please send logo to jody_wall@yahoo.com. For additional information and questions contact jody_wall@yahoo.com. For more information regarding the ChildSafe Center-CAC: - Like us on Facebook: ChildSafe Center-CAC - Visit our website at www.childsafecenter.com REGISTER TO RUN: https://runsignup.com/Race/VA/Winchester/Champions4ChildrenSuperhero5kandKidsRun?fbclid=IwAR3C8Ay_gBvfb2aFA-aAOcaGXdR8_OPdwtt0poXPWqKnpd70SQANGtykzLQ
LOCATION:Greenwood Mill Elementary School 281 Channing Drive Winchester\, VA 22602
UID:e.2531.21346
SEQUENCE:3
DTSTAMP:20260425T164846Z
URL:https://business.regionalchamber.biz/events/details/childsafe-center-cac-superhero-5k-and-kids-run-21346
END:VEVENT

END:VCALENDAR
