BEGIN:VCALENDAR
VERSION:2.0
PRODID:-//ChamberMaster//Event Calendar 2.0//EN
METHOD:PUBLISH
X-PUBLISHED-TTL:P3D
REFRESH-INTERVAL:P3D
CALSCALE:GREGORIAN
BEGIN:VEVENT
DTSTART:20260328T160000Z
DTEND:20260328T190000Z
X-MICROSOFT-CDO-ALLDAYEVENT:FALSE
SUMMARY:Community Open House for Dr. Emily Chan
DESCRIPTION:You're invited to our Community Open House for Dr. Emily Chan.\n\nRSVP by Wednesday\, March 25 by calling our office at 540.459.1990
X-ALT-DESC;FMTTYPE=text/html:You&#39\;re invited to our Community Open House for Dr. Emily Chan.<br />\nRSVP by Wednesday\, March 25 by calling our office at 540.459.1990
LOCATION:641 North Main St Woodstock VA 22664
UID:e.2531.28508
SEQUENCE:3
DTSTAMP:20260426T040304Z
URL:https://business.regionalchamber.biz/events/details/community-open-house-for-dr-emily-chan-28508
END:VEVENT

END:VCALENDAR
