BEGIN:VCALENDAR
VERSION:2.0
PRODID:-//ChamberMaster//Event Calendar 2.0//EN
METHOD:PUBLISH
X-PUBLISHED-TTL:P3D
REFRESH-INTERVAL:P3D
CALSCALE:GREGORIAN
BEGIN:VEVENT
DTSTART:20260304T223000Z
DTEND:20260305T003000Z
X-MICROSOFT-CDO-ALLDAYEVENT:FALSE
SUMMARY:Community Partner/Employer Networking Event
DESCRIPTION:Dear Community Workforce Partners! Happy 2026!\n\nWe are excited to invite your organization to participate in a Community Partner/Employer Networking Event hosted by DARS\, Virginia Career Works\, Goodwill\, and the U.S. Equal Employment Opportunity Commission. This event is designed to connect regional employers with workforce development partners who offer valuable hiring resources\, incentives\, and training opportunities.\n\nEvent Details:\n\n         Date: Wednesday\, March 4\, 2025\n\n         Time: 5:30 PM   7:30 PM (after hours for employer convenience)\n\n         Location: Bowman Library\, Stephens City\n\n         Format: Open house with short presentations and networking\n\nYour Role:\n\n         5:30-6:15/6:30 Presentation: Each organization will have 5 10 minutes to share what you offer employers\, including:\n\no   Workforce partnership opportunities\n\no   Hiring incentives\n\no   Candidate pipelines (considering populations served)\n\no   Training programs\n\n         5:30-7:30 Job Fair Style Setup: Each partner will have their own table to set up materials and have a representative available to speak directly with employers during networking.\n\n         Promotion: We kindly request that you assist in advertising the event to employers through your networks (service area of City of Winchester\, Frederick\, Shenandoah\, Clark & Warren).\n\nWhy Participate?\n\n         Showcase your services directly to businesses\n\n         Strengthen employer relationships\n\n         Collaborate with other workforce partners to support regional hiring needs\n\nNext Steps:\n\n         Please confirm your participation by Monday\, January 12 by replying to this email.\n\n         If you can confirm sooner\, I will add you to a virtual planning meeting this Thursday at 1:00 PM to plan event details and coordination.\n\nThank you for supporting our business community. We look forward to partnering with you for a successful event!
X-ALT-DESC;FMTTYPE=text/html:<p><em><span style="color:black !important">Dear&nbsp\;Community Workforce Partners! Happy 2026!</span></em></p>\n\n<p><em><span style="color:black !important">We are excited to invite your organization to participate in a&nbsp\;Community Partner/Employer Networking Event&nbsp\;hosted by DARS\, Virginia Career Works\, Goodwill\, and the U.S. Equal Employment Opportunity Commission. This event is designed to connect regional employers with workforce development partners who offer valuable hiring resources\, incentives\, and training opportunities.</span></em></p>\n\n<p><em><span style="color:black !important">Event Details:</span></em></p>\n\n<p><span style="color:black !important\; font-family:symbol\; font-size:10pt"><span style="color:inherit">&middot\;<span style="color:inherit\; font-family:times new roman\; font-size:7pt">&nbsp\;&nbsp\;&nbsp\;&nbsp\;&nbsp\;&nbsp\;&nbsp\;&nbsp\;</span></span></span><strong><em><span style="color:black !important">Date:&nbsp\;Wednesday\, March 4\, 2025</span></em></strong></p>\n\n<p><span style="color:black !important\; font-family:symbol\; font-size:10pt"><span style="color:inherit">&middot\;<span style="color:inherit\; font-family:times new roman\; font-size:7pt">&nbsp\;&nbsp\;&nbsp\;&nbsp\;&nbsp\;&nbsp\;&nbsp\;&nbsp\;</span></span></span><em><span style="color:black !important">Time:&nbsp\;5:30 PM &ndash\; 7:30 PM (after hours for employer convenience)</span></em></p>\n\n<p><span style="color:black !important\; font-family:symbol\; font-size:10pt"><span style="color:inherit">&middot\;<span style="color:inherit\; font-family:times new roman\; font-size:7pt">&nbsp\;&nbsp\;&nbsp\;&nbsp\;&nbsp\;&nbsp\;&nbsp\;&nbsp\;</span></span></span><em><span style="color:black !important">Location:&nbsp\;Bowman Library\, Stephens City</span></em></p>\n\n<p><span style="color:black !important\; font-family:symbol\; font-size:10pt"><span style="color:inherit">&middot\;<span style="color:inherit\; font-family:times new roman\; font-size:7pt">&nbsp\;&nbsp\;&nbsp\;&nbsp\;&nbsp\;&nbsp\;&nbsp\;&nbsp\;</span></span></span><em><span style="color:black !important">Format:&nbsp\;Open house with short presentations and networking</span></em></p>\n\n<p><em><span style="color:black !important">Your Role:</span></em></p>\n\n<p><span style="color:black !important\; font-family:symbol\; font-size:10pt"><span style="color:inherit">&middot\;<span style="color:inherit\; font-family:times new roman\; font-size:7pt">&nbsp\;&nbsp\;&nbsp\;&nbsp\;&nbsp\;&nbsp\;&nbsp\;&nbsp\;</span></span></span><em><span style="color:black !important">5:30-6:15/6:30 Presentation:&nbsp\;Each organization will have 5&ndash\;10 minutes&nbsp\;to share what you offer employers\, including:</span></em></p>\n\n<p><span style="color:black !important\; font-family:courier new\; font-size:10pt"><span style="color:inherit">o<span style="color:inherit\; font-family:times new roman\; font-size:7pt">&nbsp\;&nbsp\;&nbsp\;</span></span></span><em><span style="color:black !important">Workforce partnership opportunities</span></em></p>\n\n<p><span style="color:black !important\; font-family:courier new\; font-size:10pt"><span style="color:inherit">o<span style="color:inherit\; font-family:times new roman\; font-size:7pt">&nbsp\;&nbsp\;&nbsp\;</span></span></span><em><span style="color:black !important">Hiring incentives</span></em></p>\n\n<p><span style="color:black !important\; font-family:courier new\; font-size:10pt"><span style="color:inherit">o<span style="color:inherit\; font-family:times new roman\; font-size:7pt">&nbsp\;&nbsp\;&nbsp\;</span></span></span><em><span style="color:black !important">Candidate pipelines (considering populations served)</span></em></p>\n\n<p><span style="color:black !important\; font-family:courier new\; font-size:10pt"><span style="color:inherit">o<span style="color:inherit\; font-family:times new roman\; font-size:7pt">&nbsp\;&nbsp\;&nbsp\;</span></span></span><em><span style="color:black !important">Training programs</span></em></p>\n\n<p><span style="color:black !important\; font-family:symbol\; font-size:10pt"><span style="color:inherit">&middot\;<span style="color:inherit\; font-family:times new roman\; font-size:7pt">&nbsp\;&nbsp\;&nbsp\;&nbsp\;&nbsp\;&nbsp\;&nbsp\;&nbsp\;</span></span></span><em><span style="color:black !important">5:30-7:30 Job Fair Style Setup:&nbsp\;Each partner will have their own table&nbsp\;to set up materials and have a representative available to speak directly with employers during networking.</span></em></p>\n\n<p><span style="color:black !important\; font-family:symbol\; font-size:10pt"><span style="color:inherit">&middot\;<span style="color:inherit\; font-family:times new roman\; font-size:7pt">&nbsp\;&nbsp\;&nbsp\;&nbsp\;&nbsp\;&nbsp\;&nbsp\;&nbsp\;</span></span></span><em><span style="color:black !important">Promotion:&nbsp\;We kindly request that you assist in advertising the event to employers&nbsp\;through your networks (service area of City of Winchester\, Frederick\, Shenandoah\, Clark &amp\; Warren).</span></em></p>\n\n<p><em><span style="color:black !important">Why Participate?</span></em></p>\n\n<p><span style="color:black !important\; font-family:symbol\; font-size:10pt"><span style="color:inherit">&middot\;<span style="color:inherit\; font-family:times new roman\; font-size:7pt">&nbsp\;&nbsp\;&nbsp\;&nbsp\;&nbsp\;&nbsp\;&nbsp\;&nbsp\;</span></span></span><em><span style="color:black !important">Showcase your services directly to businesses</span></em></p>\n\n<p><span style="color:black !important\; font-family:symbol\; font-size:10pt"><span style="color:inherit">&middot\;<span style="color:inherit\; font-family:times new roman\; font-size:7pt">&nbsp\;&nbsp\;&nbsp\;&nbsp\;&nbsp\;&nbsp\;&nbsp\;&nbsp\;</span></span></span><em><span style="color:black !important">Strengthen employer relationships</span></em></p>\n\n<p><span style="color:black !important\; font-family:symbol\; font-size:10pt"><span style="color:inherit">&middot\;<span style="color:inherit\; font-family:times new roman\; font-size:7pt">&nbsp\;&nbsp\;&nbsp\;&nbsp\;&nbsp\;&nbsp\;&nbsp\;&nbsp\;</span></span></span><em><span style="color:black !important">Collaborate with other workforce partners to support regional hiring needs</span></em></p>\n\n<p><em><span style="color:black !important">Next Steps:</span></em></p>\n\n<p><span style="color:black !important\; font-family:symbol\; font-size:10pt"><span style="color:inherit">&middot\;<span style="color:inherit\; font-family:times new roman\; font-size:7pt">&nbsp\;&nbsp\;&nbsp\;&nbsp\;&nbsp\;&nbsp\;&nbsp\;&nbsp\;</span></span></span><em><span style="color:black !important">Please confirm your participation by Monday\, January 12&nbsp\;by replying to this email.</span></em></p>\n\n<p><span style="color:black !important\; font-family:symbol\; font-size:10pt"><span style="color:inherit">&middot\;<span style="color:inherit\; font-family:times new roman\; font-size:7pt">&nbsp\;&nbsp\;&nbsp\;&nbsp\;&nbsp\;&nbsp\;&nbsp\;&nbsp\;</span></span></span><em><span style="color:black !important">If you can confirm sooner\, I will add you to a virtual planning meeting this Thursday at 1:00 PM&nbsp\;to plan event details and coordination.</span></em></p>\n\n<p><em><span style="color:black !important">Thank you for supporting our business community. We look forward to partnering with you for a successful event!</span></em></p>\n
LOCATION:BOWMAN LIBRARY 871 Tasker Rd Stephens City\, VA 22655
UID:e.2531.28183
SEQUENCE:3
DTSTAMP:20260426T040339Z
URL:https://business.regionalchamber.biz/events/details/community-partner-employer-networking-event-28183
END:VEVENT

END:VCALENDAR
