BEGIN:VCALENDAR
VERSION:2.0
PRODID:-//ChamberMaster//Event Calendar 2.0//EN
METHOD:PUBLISH
X-PUBLISHED-TTL:P3D
REFRESH-INTERVAL:P3D
CALSCALE:GREGORIAN
BEGIN:VEVENT
DTSTART:20240425T140000Z
DTEND:20240425T153000Z
X-MICROSOFT-CDO-ALLDAYEVENT:FALSE
SUMMARY:Demystify Finance
DESCRIPTION:Are you an established business looking to fund a new project? Are you a current business looking to acquire an additional business? Are you thinking of selling your current business? If you answered yes to any of these questions you need to join us to demystify the process of finances and loan application processes! This seminar will humanize the lending process and explain finances and the loan application in easy to understand terms! You no longer need to be intimidated by financial ratios or projections! Join us to put your mind at ease and build a strong financial picture for your business finance goals!\n\nPlease note this seminar will be offered in-person and via Zoom. A zoom meeting link will be sent prior to the event.\n\n\n \n\nSpeaker(s): Carl Hairston\, First Citizens Bank Cort Maddox\, Laurel Ridge SBDC\n\nCo-Sponsor(s): First Citizens Bank
X-ALT-DESC;FMTTYPE=text/html:<div>\n<p>Are you an established business looking to fund a new project? Are you a current business looking to acquire an additional business? Are you thinking of selling your current business? If you answered yes to any of these questions you need to join us to demystify the process of finances and loan application processes! This seminar will humanize the lending process and explain finances and the loan application in easy to understand terms! You no longer need to be intimidated by financial ratios or projections! Join us to put your mind at ease and build a strong financial picture for your business finance goals!</p>\n\n<p>Please note this seminar will be offered in-person and via Zoom. A zoom meeting link will be sent prior to the event.</p>\n</div>\n\n<p>&nbsp\;</p>\n\n<p>Speaker(s): Carl Hairston\, First Citizens Bank Cort Maddox\, Laurel Ridge SBDC</p>\n\n<p>Co-Sponsor(s): First Citizens Bank</p>\n\n<div>&nbsp\;</div>\n\n<p>&nbsp\;</p>\n\n<div>&nbsp\;</div>\n
LOCATION:Laurel Ridge Community College 173 Skirmisher Lane\, Middletown\, VA 22645 Corron building room 106 This seminar will also be on zoom at the same date/time. Zoom link will be emailed after registration.
UID:e.2531.21366
SEQUENCE:3
DTSTAMP:20260425T164712Z
URL:https://business.regionalchamber.biz/events/details/demystify-finance-21366
END:VEVENT

END:VCALENDAR
