BEGIN:VCALENDAR
VERSION:2.0
PRODID:-//ChamberMaster//Event Calendar 2.0//EN
METHOD:PUBLISH
X-PUBLISHED-TTL:P3D
REFRESH-INTERVAL:P3D
CALSCALE:GREGORIAN
BEGIN:VEVENT
DTSTART:20240330T130000Z
DTEND:20240330T170000Z
X-MICROSOFT-CDO-ALLDAYEVENT:FALSE
SUMMARY:Easter Bake Sale - Market Street United Methodist Chruch
DESCRIPTION:Market Street United Methodist Church is celebrating Easter with an Easter Holiday Bake sale! \n\nEnjoy the start of Spring with homemade cakes\, cookies and candies!
X-ALT-DESC;FMTTYPE=text/html:Market Street United Methodist Church is celebrating Easter with an Easter Holiday Bake sale!&nbsp\;<br />\nEnjoy the start of Spring with homemade cakes\, cookies and candies!<br />\n&nbsp\;
LOCATION:131 S Cameron St\, Winchester\, VA 22601
UID:e.2531.21363
SEQUENCE:3
DTSTAMP:20260419T210327Z
URL:https://business.regionalchamber.biz/events/details/easter-bake-sale-market-street-united-methodist-chruch-21363
END:VEVENT

END:VCALENDAR
