BEGIN:VCALENDAR
VERSION:2.0
PRODID:-//ChamberMaster//Event Calendar 2.0//EN
METHOD:PUBLISH
X-PUBLISHED-TTL:P3D
REFRESH-INTERVAL:P3D
CALSCALE:GREGORIAN
BEGIN:VEVENT
DTSTART:20190523T190000Z
DTEND:20190523T230000Z
X-MICROSOFT-CDO-ALLDAYEVENT:FALSE
SUMMARY:Employer Expo
DESCRIPTION:The Employer Expo hiring event will be held on May 23\, 2019\, from 3-7 p.m. at the War Memorial Building in Jim Barnett Park\, in Winchester\, Virginia. The free event is open to the public and seeks to connect job seekers directly with hiring managers from local\, growing companies. Professional development workshops focused on resume writing\, interviewing skills\, and professional attributes will run on the half hour\, and fast-track training providers will be onsite. Businesses can still sign up to exhibit!\n\n\n\nEmployer - Expo Registration - Click Here
X-ALT-DESC;FMTTYPE=text/html:The Employer Expo hiring event will be held on May 23\, 2019\, from 3-7 p.m. at the War Memorial Building in Jim Barnett Park\, in Winchester\, Virginia. The free event is open to the public and seeks to connect job seekers directly with hiring managers from local\, growing companies. Professional development workshops focused on resume writing\, interviewing skills\, and professional attributes will run on the half hour\, and fast-track training providers will be onsite. Businesses can still sign up to exhibit!<br />\n<br />\n<span style="background:white\;"><span style="color:#333333\;"><span style="font-family:arial\,sans-serif\;"><span style="font-size:10.0pt\;"><a href="https://events.r20.constantcontact.com/register/eventReg?oeidk=a07eg08a9fp47ecc3d3&amp\;oseq=&amp\;c=&amp\;ch=">Employer - Expo Registration - Click Here</a></span></span></span></span><br />\n&nbsp\;
LOCATION:Jim Barnett Park Rec Center 1001 E. Cork St. Winchester\, VA 22601
UID:e.2531.9659
SEQUENCE:3
DTSTAMP:20260421T151411Z
URL:https://business.regionalchamber.biz/events/details/employer-expo-05-23-2019-9659
END:VEVENT

END:VCALENDAR
