BEGIN:VCALENDAR
VERSION:2.0
PRODID:-//ChamberMaster//Event Calendar 2.0//EN
METHOD:PUBLISH
X-PUBLISHED-TTL:P3D
REFRESH-INTERVAL:P3D
CALSCALE:GREGORIAN
BEGIN:VEVENT
DTSTART:20260606T140000Z
DTEND:20260606T210000Z
X-MICROSOFT-CDO-ALLDAYEVENT:FALSE
SUMMARY:Fariy Tai Chi at the Flutterby Fairy Festival
DESCRIPTION:A gathering for all things Fae! All ages welcome\, and costumes encouraged! Join us for a one-day event with activities\, photo ops\, interactive characters\, a fae parade and costume contest\, vendors\, and FAIRY TAI CHI! \n\n\n\nThe Flutterby Fairy Festival is a benefit for The Evans Home for Children\, a local nonprofit.
X-ALT-DESC;FMTTYPE=text/html:A gathering for all things Fae! All ages welcome\, and costumes encouraged! Join us for a one-day event with activities\, photo ops\, interactive characters\, a fae parade and costume contest\, vendors\, and FAIRY TAI CHI!&nbsp\;<br />\n<br />\nThe Flutterby Fairy Festival is a benefit for The Evans Home for Children\, a local nonprofit.&nbsp\;
LOCATION:Willow Grove Farm 740 Merrimans Ln Winchester VA 22601
UID:e.2531.28612
SEQUENCE:3
DTSTAMP:20260424T233907Z
URL:https://business.regionalchamber.biz/events/details/fariy-tai-chi-at-the-flutterby-fairy-festival-28612
END:VEVENT

END:VCALENDAR
