BEGIN:VCALENDAR
VERSION:2.0
PRODID:-//ChamberMaster//Event Calendar 2.0//EN
METHOD:PUBLISH
X-PUBLISHED-TTL:P3D
REFRESH-INTERVAL:P3D
CALSCALE:GREGORIAN
BEGIN:VEVENT
DTSTART:20240405T220000Z
DTEND:20240406T010000Z
X-MICROSOFT-CDO-ALLDAYEVENT:FALSE
SUMMARY:First Friday at Eugene B. Smith Gallery
DESCRIPTION:First Friday April 5th\, 6 - 9pm at Eugene B. Smith Gallery\n\nLive Music by Eugene & Friends\n\nAttendees receive special discounts (6-9pm Only)\n\nNew spring scenes & abstract watercolors by Eugene\n\nCustom Framing available - 35+ years experience - ask for Marilynn or Anne\n\nOpen 7 days a week and special appointments are always welcome. (540)667-6190.
X-ALT-DESC;FMTTYPE=text/html:<span style="color:black"><span style="font-family:arial\,sans-serif"><span style="font-size:12pt"><strong>First Friday April 5th\, 6 - 9pm at Eugene B. Smith Gallery</strong><br />\nLive Music by Eugene &amp\; Friends<br />\nAttendees receive special discounts (6-9pm Only)<br />\nNew spring scenes &amp\; abstract watercolors by Eugene<br />\nCustom Framing available - 35+ years experience - ask for Marilynn or Anne<br />\nOpen 7 days a week and special appointments are always welcome. (540)667-6190.&nbsp\; &nbsp\; &nbsp\;</span></span></span>
LOCATION:25 N. Loudoun Street - on the Old Town Mall Winchester\, VA 22601
UID:e.2531.21372
SEQUENCE:3
DTSTAMP:20260425T164717Z
URL:https://business.regionalchamber.biz/events/details/first-friday-at-eugene-b-smith-gallery-04-05-2024-21372
END:VEVENT

END:VCALENDAR
