BEGIN:VCALENDAR
VERSION:2.0
PRODID:-//ChamberMaster//Event Calendar 2.0//EN
METHOD:PUBLISH
X-PUBLISHED-TTL:P3D
REFRESH-INTERVAL:P3D
CALSCALE:GREGORIAN
BEGIN:VEVENT
DTSTART:20260520T213000Z
DTEND:20260521T000000Z
X-MICROSOFT-CDO-ALLDAYEVENT:FALSE
SUMMARY:Friends of Handley Library - Annual Meeting - Books on Books
DESCRIPTION:Author Sarah Tollok will speak at our Annual Meeting at Handley Library on Wednesday\, May 20 at 6pm. The topic is Books on Books. The Winchester Book Gallery will be at the library selling a selection of Sarah's books\, as well as some of the titles she'll be discussing. See you there!
X-ALT-DESC;FMTTYPE=text/html:<div>\n<div>\n<div>\n<p>Author Sarah Tollok will speak at our Annual Meeting at Handley Library on Wednesday\, May 20 at 6pm. The topic is&nbsp\;<em>Books on Books.&nbsp\;</em>The Winchester Book Gallery will be at the library selling a selection of Sarah&#39\;s books\, as well as some of the titles she&#39\;ll be discussing. See you there!</p>\n\n<div>&nbsp\;</div>\n</div>\n</div>\n</div>\n\n<div>\n<div>&nbsp\;</div>\n</div>\n
LOCATION:
UID:e.2531.28586
SEQUENCE:3
DTSTAMP:20260426T040107Z
URL:https://business.regionalchamber.biz/events/details/friends-of-handley-library-annual-meeting-books-on-books-28586
END:VEVENT

END:VCALENDAR
