BEGIN:VCALENDAR
VERSION:2.0
PRODID:-//ChamberMaster//Event Calendar 2.0//EN
METHOD:PUBLISH
X-PUBLISHED-TTL:P3D
REFRESH-INTERVAL:P3D
CALSCALE:GREGORIAN
BEGIN:VEVENT
DTSTART:20190510T230000Z
DTEND:20190511T020000Z
X-MICROSOFT-CDO-ALLDAYEVENT:FALSE
SUMMARY:Hiroya Tsukamoto
DESCRIPTION:Don't miss internationally acclaimed guitarist and composer Hiroya Tsukamoto as he takes us on an innovative\, impressionistic journey filled with earthy\, organic soundscapes that impart a mood of peace and tranquility. "Hiroya Tsukamoto takes us to an impressionistic journey"   Boston Herald Hiroya Tsukamoto is a one-of-a-kind composer\, guitarist\, and singer-songwriter from Kyoto\, Japan. He began playing the five-string banjo when he was thirteen and took up the guitar shortly after. In 1994\, Hiroya entered The Osaka University and while at college in Japan\, Hiroya was introduced to a musical and social movement in South America called Nueva Cancion headed by musical legends such as Victor Jara and Violeta Parra. In 2000\, Hiroya received a scholarship to Berklee College of Music and came to the United States. He is also the recipient of the Professional Music Achievement Award. Since then\, he has been performing internationally including appearances as a leader at Blue Note in New York and Japanese National Television. Hiroya released several albums. " chops\, passion\, and warmth. Zealously recommended!"  Jazz Review.com Hiroya creates evocative images through his music\, taking listeners with him on scenic journeys of melody and rhythm. Times: Doors open at 7:00 PM and show starts at 8:00 PM
X-ALT-DESC;FMTTYPE=text/html:Don&rsquo\;t miss internationally acclaimed guitarist and composer Hiroya Tsukamoto as he takes us on an innovative\, impressionistic journey filled with earthy\, organic soundscapes that impart a mood of peace and tranquility. &ldquo\;Hiroya Tsukamoto takes us to an impressionistic journey&rdquo\; &ndash\; Boston Herald Hiroya Tsukamoto is a one-of-a-kind composer\, guitarist\, and singer-songwriter from Kyoto\, Japan. He began playing the five-string banjo when he was thirteen and took up the guitar shortly after. In 1994\, Hiroya entered The Osaka University and while at college in Japan\, Hiroya was introduced to a musical and social movement in South America called Nueva Cancion headed by musical legends such as Victor Jara and Violeta Parra. In 2000\, Hiroya received a scholarship to Berklee College of Music and came to the United States. He is also the recipient of the Professional Music Achievement Award. Since then\, he has been performing internationally including appearances as a leader at Blue Note in New York and Japanese National Television. Hiroya released several albums. &ldquo\;&hellip\;chops\, passion\, and warmth. Zealously recommended!&rdquo\;&ndash\; Jazz Review.com Hiroya creates evocative images through his music\, taking listeners with him on scenic journeys of melody and rhythm. Times: Doors open at 7:00 PM and show starts at 8:00 PM
LOCATION:Barns of Rose HIll
UID:e.2531.9586
SEQUENCE:3
DTSTAMP:20260421T151320Z
URL:https://business.regionalchamber.biz/events/details/hiroya-tsukamoto-9586
END:VEVENT

END:VCALENDAR
