BEGIN:VCALENDAR
VERSION:2.0
PRODID:-//ChamberMaster//Event Calendar 2.0//EN
METHOD:PUBLISH
X-PUBLISHED-TTL:P3D
REFRESH-INTERVAL:P3D
CALSCALE:GREGORIAN
BEGIN:VEVENT
DTSTART:20260509T130000Z
DTEND:20260509T200000Z
X-MICROSOFT-CDO-ALLDAYEVENT:FALSE
SUMMARY:Holistic Healing Workshop
DESCRIPTION:Holistic Healing Workshop Series.\n\nGive yourself the gift of self-care.\n\nDiscover options for holistic healing to support your health and well-being.
X-ALT-DESC;FMTTYPE=text/html:Holistic Healing Workshop Series.<br />\nGive yourself the gift of self-care.<br />\nDiscover options for holistic healing to support your health and well-being.
LOCATION:Winchester Country Club 1300 Senseny Road Winchester\, VA 22602
UID:e.2531.28609
SEQUENCE:3
DTSTAMP:20260426T035456Z
URL:https://business.regionalchamber.biz/events/details/holistic-healing-workshop-28609
END:VEVENT

END:VCALENDAR
