BEGIN:VCALENDAR
VERSION:2.0
PRODID:-//ChamberMaster//Event Calendar 2.0//EN
METHOD:PUBLISH
X-PUBLISHED-TTL:P3D
REFRESH-INTERVAL:P3D
CALSCALE:GREGORIAN
BEGIN:VEVENT
DTSTART:20260529T123000Z
DTEND:20260529T183000Z
X-MICROSOFT-CDO-ALLDAYEVENT:FALSE
SUMMARY:Housing is Health: Integrating Land Use\, Public Health\, and Housing Policy
DESCRIPTION:Join housing partners\, planners\, elected officials\, developers\, health providers\, and community leaders for the 8th Annual Regional Housing Summit as we explore strategies that connect housing and health. Housing shapes well-being\, family stability\, community resilience\, and our regional economy. When it's overlooked as a foundation of health\, every sector feels the strain\, from service demands to workforce challenges. We will hear from speakers and researchers with expertise related to the impacts of housing and health. \n\n\n\nREGISTER HERE
X-ALT-DESC;FMTTYPE=text/html:Join housing partners\, planners\, elected officials\, developers\, health providers\, and community leaders for the 8th Annual Regional Housing Summit as we explore strategies that connect housing and health. Housing shapes well-being\, family stability\, community resilience\, and our regional economy. When it&rsquo\;s overlooked as a foundation of health\, every sector feels the strain\, from service demands to workforce challenges. We will hear from speakers and researchers with expertise related to the impacts of housing and health.&nbsp\;<br />\n<br />\n<a href="https://forms.office.com/Pages/ResponsePage.aspx?id=VqNgh_ULJEyMql7_EPlYAkoU3BvRHglJnuOiSqaiiO1URTZZSlJKV0NPRjA2WkowN0xHTENDMUhQQi4u">REGISTER HERE</a>
LOCATION:Laurel Ridge Community College Corron Community Development Center 173 Skirmisher Lane Middletown\, VA 22645
UID:e.2531.28608
SEQUENCE:3
DTSTAMP:20260426T040106Z
URL:https://business.regionalchamber.biz/events/details/housing-is-health-integrating-land-use-public-health-and-housing-policy-28608
END:VEVENT

END:VCALENDAR
