BEGIN:VCALENDAR
VERSION:2.0
PRODID:-//ChamberMaster//Event Calendar 2.0//EN
METHOD:PUBLISH
X-PUBLISHED-TTL:P3D
REFRESH-INTERVAL:P3D
CALSCALE:GREGORIAN
BEGIN:VEVENT
DTSTART:20260527T120000Z
DTEND:20260527T160000Z
X-MICROSOFT-CDO-ALLDAYEVENT:FALSE
SUMMARY:HR Nightmares: What’s Keeping Small Business Owners Up at Night
DESCRIPTION:If you're a small business owner (or support one)\, you know the challenges don't just disappear at the end of the day.\n\n\n\nJoin us for HR Nightmares: What's Keeping Small Business Owners Up at Night\, a hands-on\, small-group experience where you'll talk through real challenges and walk away with practical solutions you can actually use.\n\n\n\n- Hiring & recruiting struggles\n\n- Retention & culture issues\n\n- Compliance & risk\n\n- Performance & accountability\n\n\n\nLed by certified HR professionals\, these roundtables are designed to be interactive\, relevant\, and immediately useful.
X-ALT-DESC;FMTTYPE=text/html:<span style="color:rgba(0\, 0\, 0\, 0.9)\; font-family:-apple-system\,system-ui\,blinkmacsystemfont\,segoe ui\,roboto\,helvetica neue\,fira sans\,ubuntu\,oxygen\,oxygen sans\,cantarell\,droid sans\,apple color emoji\,segoe ui emoji\,segoe ui emoji\,segoe ui symbol\,lucida grande\,helvetica\,arial\,sans-serif\; font-size:14px">If you&rsquo\;re a small business owner (or support one)\, you know the challenges don&rsquo\;t just disappear at the end of the day.</span><br />\n<br />\n<span style="color:rgba(0\, 0\, 0\, 0.9)\; font-family:-apple-system\,system-ui\,blinkmacsystemfont\,segoe ui\,roboto\,helvetica neue\,fira sans\,ubuntu\,oxygen\,oxygen sans\,cantarell\,droid sans\,apple color emoji\,segoe ui emoji\,segoe ui emoji\,segoe ui symbol\,lucida grande\,helvetica\,arial\,sans-serif\; font-size:14px">Join us for HR Nightmares: What&rsquo\;s Keeping Small Business Owners Up at Night\, a hands-on\, small-group experience where you&rsquo\;ll talk through real challenges and walk away with practical solutions you can actually use.</span><br />\n<br />\n<span style="color:rgba(0\, 0\, 0\, 0.9)\; font-family:-apple-system\,system-ui\,blinkmacsystemfont\,segoe ui\,roboto\,helvetica neue\,fira sans\,ubuntu\,oxygen\,oxygen sans\,cantarell\,droid sans\,apple color emoji\,segoe ui emoji\,segoe ui emoji\,segoe ui symbol\,lucida grande\,helvetica\,arial\,sans-serif\; font-size:14px">-&nbsp\;Hiring &amp\; recruiting struggles</span><br />\n<span style="color:rgba(0\, 0\, 0\, 0.9)\; font-family:-apple-system\,system-ui\,blinkmacsystemfont\,segoe ui\,roboto\,helvetica neue\,fira sans\,ubuntu\,oxygen\,oxygen sans\,cantarell\,droid sans\,apple color emoji\,segoe ui emoji\,segoe ui emoji\,segoe ui symbol\,lucida grande\,helvetica\,arial\,sans-serif\; font-size:14px">- Retention &amp\; culture issues</span><br />\n<span style="color:rgba(0\, 0\, 0\, 0.9)\; font-family:-apple-system\,system-ui\,blinkmacsystemfont\,segoe ui\,roboto\,helvetica neue\,fira sans\,ubuntu\,oxygen\,oxygen sans\,cantarell\,droid sans\,apple color emoji\,segoe ui emoji\,segoe ui emoji\,segoe ui symbol\,lucida grande\,helvetica\,arial\,sans-serif\; font-size:14px">- Compliance &amp\; risk</span><br />\n<span style="color:rgba(0\, 0\, 0\, 0.9)\; font-family:-apple-system\,system-ui\,blinkmacsystemfont\,segoe ui\,roboto\,helvetica neue\,fira sans\,ubuntu\,oxygen\,oxygen sans\,cantarell\,droid sans\,apple color emoji\,segoe ui emoji\,segoe ui emoji\,segoe ui symbol\,lucida grande\,helvetica\,arial\,sans-serif\; font-size:14px">- Performance &amp\; accountability</span><br />\n<br />\n<span style="color:rgba(0\, 0\, 0\, 0.9)\; font-family:-apple-system\,system-ui\,blinkmacsystemfont\,segoe ui\,roboto\,helvetica neue\,fira sans\,ubuntu\,oxygen\,oxygen sans\,cantarell\,droid sans\,apple color emoji\,segoe ui emoji\,segoe ui emoji\,segoe ui symbol\,lucida grande\,helvetica\,arial\,sans-serif\; font-size:14px">Led by certified HR professionals\, these roundtables are designed to be interactive\, relevant\, and immediately useful.</span>
LOCATION:George Washington Hotel 103 E Piccadilly St\, Winchester\, VA 22601
UID:e.2531.28589
SEQUENCE:3
DTSTAMP:20260421T160351Z
URL:https://business.regionalchamber.biz/events/details/hr-nightmares-what-s-keeping-small-business-owners-up-at-night-28589
END:VEVENT

END:VCALENDAR
