BEGIN:VCALENDAR
VERSION:2.0
PRODID:-//ChamberMaster//Event Calendar 2.0//EN
METHOD:PUBLISH
X-PUBLISHED-TTL:P3D
REFRESH-INTERVAL:P3D
CALSCALE:GREGORIAN
BEGIN:VEVENT
DTSTART:20240413T000000Z
DTEND:20240413T035500Z
X-MICROSOFT-CDO-ALLDAYEVENT:FALSE
SUMMARY:IMPROV COMEDY with Porkchop Volcano
DESCRIPTION:FRIDAY\, APRIL 12TH @ 8PM\n\nDOORS\, BAR\, & KITCHEN OPEN at 7PM\n\nTICKETS\n\nGENERAL ADMISSION: $12 + admission tax & processing fee\n\nDOOR: $15 + admission tax\n\nAdvance ticket sales end at 6PM the day of the show. If tickets are not sold out by this time they will be available for purchase when the doors open.\n\nALL TICKET SALES ARE FINAL. NO EXCHANGES OR REFUNDS unless the show is cancelled or postponed.\n\nIMPORTANT INFO\n\nThis is an all-seated event in the main theater\n\nGENERAL ADMISSION - arrive early for best choice of seating\n\nALL AGES\n\n________________________________________________________
X-ALT-DESC;FMTTYPE=text/html:<h2>FRIDAY\, APRIL 12TH @ 8PM</h2>\n\n<p>DOORS\, BAR\, &amp\; KITCHEN OPEN at 7PM</p>\n\n<p>TICKETS</p>\n\n<p>GENERAL ADMISSION: $12 + admission tax &amp\; processing fee</p>\n\n<p>DOOR: $15 + admission tax</p>\n\n<p>Advance ticket sales end at 6PM the day of the show. If tickets are not sold out by this time they will be available for purchase when the doors open.</p>\n\n<p>ALL TICKET SALES ARE FINAL. NO EXCHANGES OR REFUNDS unless the show is cancelled or postponed.</p>\n\n<p>IMPORTANT INFO</p>\n\n<p><em>This is an all-seated event in the main theater</em></p>\n\n<p>GENERAL ADMISSION - arrive early for best choice of seating</p>\n\n<p>ALL AGES</p>\n\n<p>________________________________________________________</p>\n
LOCATION:Bright Box 15 N. Loudoun St. Winchester\, VA 22601
UID:e.2531.21399
SEQUENCE:3
DTSTAMP:20260425T120456Z
URL:https://business.regionalchamber.biz/events/details/improv-comedy-with-porkchop-volcano-21399
END:VEVENT

END:VCALENDAR
