BEGIN:VCALENDAR
VERSION:2.0
PRODID:-//ChamberMaster//Event Calendar 2.0//EN
METHOD:PUBLISH
X-PUBLISHED-TTL:P3D
REFRESH-INTERVAL:P3D
CALSCALE:GREGORIAN
BEGIN:VEVENT
DTSTART;VALUE=DATE:20240422
DTEND;VALUE=DATE:20240427
TRANSP:TRANSPARENT
X-MICROSOFT-CDO-ALLDAYEVENT:TRUE
SUMMARY:Independent Bookstore Spirit Week
DESCRIPTION:Our favorite day of the year is coming in just a few days -- Independent Bookstore Day!! Help us get fired up by celebrating Spirit Week with us: Monday is Silly Sock Day\, Tuesday is Plaid Day\, Wednesday is Bookstore Apparel day\, Thursday is Dress Like Your Favorite Character Day\, and Friday is the day to show your love for WBG! We can't wait to celebrate with you this year. Thanks for being the best customers ever!
X-ALT-DESC;FMTTYPE=text/html:Our favorite day of the year is coming in just a few days -- Independent Bookstore Day!! Help us get fired up by celebrating Spirit Week with us: Monday is Silly Sock Day\, Tuesday is Plaid Day\, Wednesday is Bookstore Apparel day\, Thursday is Dress Like Your Favorite Character Day\, and Friday is the day to show your love for WBG! We can&#39\;t wait to celebrate with you this year. Thanks for being the best customers ever!
LOCATION:Winchester Book Gallery 7 N. Loudoun Street Winchester VA 22601
UID:e.2531.21392
SEQUENCE:3
DTSTAMP:20260425T164841Z
URL:https://business.regionalchamber.biz/events/details/independent-bookstore-spirit-week-21392
END:VEVENT

END:VCALENDAR
