BEGIN:VCALENDAR
VERSION:2.0
PRODID:-//ChamberMaster//Event Calendar 2.0//EN
METHOD:PUBLISH
X-PUBLISHED-TTL:P3D
REFRESH-INTERVAL:P3D
CALSCALE:GREGORIAN
BEGIN:VEVENT
DTSTART:20260420T040000Z
DTEND:20260424T030000Z
X-MICROSOFT-CDO-ALLDAYEVENT:FALSE
SUMMARY:Laurel Ridge Community College STEM Week
DESCRIPTION:The community is invited to STEM Week being held April 20-23\, at all Laurel Ridge locations. Events include STEM fairs\, career panels\, expert speakers\, and more. Learn more at laurelridge.edu/STEM
X-ALT-DESC;FMTTYPE=text/html:The community is invited to STEM Week being held April 20-23\, at all Laurel Ridge locations. Events include STEM fairs\, career panels\, expert speakers\, and more. Learn more at laurelridge.edu/STEM
LOCATION:Laurel Ridge Community College
UID:e.2531.28577
SEQUENCE:3
DTSTAMP:20260420T162318Z
URL:https://business.regionalchamber.biz/events/details/laurel-ridge-community-college-stem-week-28577
END:VEVENT

END:VCALENDAR
