BEGIN:VCALENDAR
VERSION:2.0
PRODID:-//ChamberMaster//Event Calendar 2.0//EN
METHOD:PUBLISH
X-PUBLISHED-TTL:P3D
REFRESH-INTERVAL:P3D
CALSCALE:GREGORIAN
BEGIN:VEVENT
DTSTART:20240405T233000Z
DTEND:20240406T010000Z
X-MICROSOFT-CDO-ALLDAYEVENT:FALSE
SUMMARY:Lucas Bohn's 'Lesson Plans To Late Night'
DESCRIPTION:FRIDAY\, APRIL 5TH @ 7:30PM\n\nVIP EARLY ENTRY at 6:30PM\n\nGENERAL ADMISSION DOORS at 7PM\n\n \n\nTICKETS\n\nGENERAL ADMISSION: $18 + admission tax & processing fee\n\nVIP EARLY ENTRY : $22 + admission tax & processing fee\n\nDOOR: $20 + admission tax\n\nVIP EARLY ENTRY TICKETS allow entrance into the venue half an hour before doors open to the public\, allowing you first choice of seating\n\nAdvance ticket sales end at 5PM the day of the show. If tickets are not sold out by this time they will be available for purchase when the doors open.\n\nALL TICKET SALES ARE FINAL unless the show is cancelled or rescheduled
X-ALT-DESC;FMTTYPE=text/html:<h2>FRIDAY\, APRIL 5TH @ 7:30PM</h2>\n\n<p>VIP EARLY ENTRY at 6:30PM</p>\n\n<p>GENERAL ADMISSION DOORS at 7PM</p>\n\n<p>&nbsp\;</p>\n\n<h3>TICKETS</h3>\n\n<p>GENERAL ADMISSION: $18 + admission tax &amp\; processing fee</p>\n\n<p>VIP EARLY ENTRY : $22 + admission tax &amp\; processing fee</p>\n\n<p>DOOR: $20 + admission tax</p>\n\n<p>VIP EARLY ENTRY TICKETS allow entrance into the venue half an hour before doors open to the public\, allowing you first choice of seating</p>\n\n<p>Advance ticket sales end at 5PM the day of the show. If tickets are not sold out by this time they will be available for purchase when the doors open.</p>\n\n<p>ALL TICKET SALES ARE FINAL unless the show is cancelled or rescheduled<br />\n&nbsp\;</p>\n
LOCATION:Bright Box 15 N. Loudoun St. Winchester\, VA 22601
UID:e.2531.21396
SEQUENCE:3
DTSTAMP:20260425T164834Z
URL:https://business.regionalchamber.biz/events/details/lucas-bohn-s-lesson-plans-to-late-night-21396
END:VEVENT

END:VCALENDAR
