BEGIN:VCALENDAR
VERSION:2.0
PRODID:-//ChamberMaster//Event Calendar 2.0//EN
METHOD:PUBLISH
X-PUBLISHED-TTL:P3D
REFRESH-INTERVAL:P3D
CALSCALE:GREGORIAN
BEGIN:VEVENT
DTSTART:20260422T153000Z
DTEND:20260422T170000Z
X-MICROSOFT-CDO-ALLDAYEVENT:FALSE
SUMMARY:Lunch & Learn: Beyond the Launch: Building a Sustainable Small Business
DESCRIPTION:Beyond the Launch: Building a Sustainable Small Business\n\nYou've started your business now it's time to strengthen it. This session focuses on what comes after the launch phase\, including cash flow management\, pricing for profit\, customer acquisition\, and operational systems that support growth. Attendees will learn how to shift from "survival mode" to building a business that is scalable\, resilient\, and positioned for long-term success. Join Andy Gyurisin\, Director of the Laurel Ridge Small Business Development Center\, for this informative session. Non-Chamber members are welcome to attend this session!
X-ALT-DESC;FMTTYPE=text/html:<strong><span style="color:black\;">Beyond the Launch: Building a Sustainable Small Business</span></strong><br />\n<span style="color:black\;">You&rsquo\;ve started your business&mdash\;now it&rsquo\;s time to strengthen it. This session focuses on what comes after the launch phase\, including cash flow management\, pricing for profit\, customer acquisition\, and operational systems that support growth. Attendees will learn how to shift from &ldquo\;survival mode&rdquo\; to building a business that is scalable\, resilient\, and positioned for long-term success. Join Andy Gyurisin\, Director of the Laurel Ridge Small Business Development Center\, for this informative session. Non-Chamber members are welcome to attend this session!</span><br />\n&nbsp\;
LOCATION:Winchester Regional Airport Business Center 491 Airport Road Winchester\, VA 22602
UID:e.2531.28161
SEQUENCE:3
DTSTAMP:20260426T021905Z
URL:https://business.regionalchamber.biz/events/details/lunch-learn-beyond-the-launch-building-a-sustainable-small-business-28161
END:VEVENT

END:VCALENDAR
