BEGIN:VCALENDAR
VERSION:2.0
PRODID:-//ChamberMaster//Event Calendar 2.0//EN
METHOD:PUBLISH
X-PUBLISHED-TTL:P3D
REFRESH-INTERVAL:P3D
CALSCALE:GREGORIAN
BEGIN:VEVENT
DTSTART:20260311T153000Z
DTEND:20260311T170000Z
X-MICROSOFT-CDO-ALLDAYEVENT:FALSE
SUMMARY:Lunch & Learn: From Idea to Action: Starting a Small Business in 2026
DESCRIPTION:From Idea to Action: Starting a Small Business in 2026\n\nThinking about starting a business but not sure where to begin? This session walks aspiring entrepreneurs through the modern startup landscape from validating an idea and choosing the right business structure to understanding costs\, licenses\, and early financial decisions. Designed for 2026 realities\, this class also touches on digital tools\, flexible business models\, and common startup pitfalls\, helping attendees move from concept to confident first steps. Join Andy Gyurisin\, Director of the Laurel Ridge Small Business Development Center\, for this informative session. Chamber members and non- members are welcome to attend this session! Bring your own lunch as we eat and network from 11:30 am-12 pm prior to the program.
X-ALT-DESC;FMTTYPE=text/html:<strong><span style="color:black\;">From Idea to Action: Starting a Small Business in 2026</span></strong><br />\n<span style="color:black\;">Thinking about starting a business but not sure where to begin? This session walks aspiring entrepreneurs through the modern startup landscape&mdash\;from validating an idea and choosing the right business structure to understanding costs\, licenses\, and early financial decisions. Designed for 2026 realities\, this class also touches on digital tools\, flexible business models\, and common startup pitfalls\, helping attendees move from concept to confident first steps. Join Andy Gyurisin\, Director of the Laurel Ridge Small Business Development Center\, for this informative session. Chamber members and non- members are welcome to attend this session! Bring your own lunch as we eat and network from 11:30 am-12 pm prior to the program.&nbsp\;</span><br />\n&nbsp\;
LOCATION:Winchester Regional Airport Business Center 491 Airport Road Winchester\, VA 22602
UID:e.2531.28160
SEQUENCE:3
DTSTAMP:20260426T040409Z
URL:https://business.regionalchamber.biz/events/details/lunch-learn-from-idea-to-action-starting-a-small-business-in-2026-28160
END:VEVENT

END:VCALENDAR
