BEGIN:VCALENDAR
VERSION:2.0
PRODID:-//ChamberMaster//Event Calendar 2.0//EN
METHOD:PUBLISH
X-PUBLISHED-TTL:P3D
REFRESH-INTERVAL:P3D
CALSCALE:GREGORIAN
BEGIN:VEVENT
DTSTART:20260310T220000Z
DTEND:20260310T230000Z
X-MICROSOFT-CDO-ALLDAYEVENT:FALSE
SUMMARY:Medicare 101 at Bowman Library
DESCRIPTION:Hi neighbors! Our team at Blue Ridge Agents is hosting four sessions to help you master your Medicare options.\n\n?? Bowman Library: Tue\, March 10th @ 12 PM or 6 PM\n\n?? Handley Library: Wed\, March 11th @ 12 PM or 6 PM\n\nCall us at 540-431-4373 to save your seat. All the sessions are the same\, just pick which one works best for you!\n\n\n\nWhy attend?\n\nMedicare is complicated\, but we make it simple. We'll cover:\n\n? Critical deadlines you can't afford to miss.\n\n?? How to choose coverage that actually fits your lifestyle.\n\n?? Answers to the questions you haven't even thought of yet!\n\nDon't guess when it comes to your healthcare. See you there!
X-ALT-DESC;FMTTYPE=text/html:Hi neighbors! Our team at Blue Ridge Agents is hosting four sessions to help you master your Medicare options.<br />\n?? Bowman Library: Tue\, March 10th @ 12 PM or 6 PM<br />\n?? Handley Library: Wed\, March 11th @ 12 PM or 6 PM<br />\nCall us at 540-431-4373 to save your seat. All the sessions are the same\, just pick which one works best for you!<br />\n<br />\nWhy attend?<br />\nMedicare is complicated\, but we make it simple. We&rsquo\;ll cover:<br />\n? Critical deadlines you can&#39\;t afford to miss.<br />\n?? How to choose coverage that actually fits your lifestyle.<br />\n?? Answers to the questions you haven&#39\;t even thought of yet!<br />\nDon&#39\;t guess when it comes to your healthcare. See you there!
LOCATION:Bowman Library 871 Tasker Road Stephens City\, VA 22655
UID:e.2531.28504
SEQUENCE:3
DTSTAMP:20260426T040411Z
URL:https://business.regionalchamber.biz/events/details/medicare-101-at-bowman-library-03-10-2026-28504
END:VEVENT

END:VCALENDAR
