BEGIN:VCALENDAR
VERSION:2.0
PRODID:-//ChamberMaster//Event Calendar 2.0//EN
METHOD:PUBLISH
X-PUBLISHED-TTL:P3D
REFRESH-INTERVAL:P3D
CALSCALE:GREGORIAN
BEGIN:VEVENT
DTSTART:20230518T130000Z
DTEND:20230518T203000Z
X-MICROSOFT-CDO-ALLDAYEVENT:FALSE
SUMMARY:More than a Manager Workshop
DESCRIPTION:Evolving issues around employee recruitment and retention\, product and service delivery\, and expectations from customers\, employees\, and leadership have created a new environment. Managers not only play an important role as organizations and teams find their way and enhance their effectiveness\, but also in creating the next phase of the modern workplace.\n\n \n\nToday's managers need more than just a "Supervisor 101" course. In order to be successful in the modern workplace they must learn to become "More than a Manager." To provide managers with the tools they need\, this course combines training on the key components of a modern manager with coaching to reinforce concepts.\n\n \n\nThis training\, hosted by Becky Stickley Coaching\, provided as an employee benefit or as part of professional development opportunities reaps benefits for both the individual and the organization.
X-ALT-DESC;FMTTYPE=text/html:Evolving issues around employee recruitment and retention\, product and service delivery\, and expectations from customers\, employees\, and leadership have created a new environment. Managers not only play an important role as organizations and teams find their way and enhance their effectiveness\, but also in creating the next phase of the modern workplace.<br />\n&nbsp\;<br />\nToday&#39\;s managers need more than just a &quot\;Supervisor 101&quot\; course. In order to be successful in the modern workplace they must learn to become &quot\;More than a Manager.&quot\; To provide managers with the tools they need\, this course combines training on the key components of a modern manager with coaching to reinforce concepts.<br />\n&nbsp\;<br />\nThis training\, hosted by <a href="http://www.beckystickleycoaching.com">Becky Stickley Coaching</a>\, provided as an employee benefit or as part of professional development opportunities reaps benefits for both the individual and the organization.
LOCATION:Hampton Inn & Suites 1150 Motel Drive Woodstock\, Virginia 22664
UID:e.2531.19406
SEQUENCE:3
DTSTAMP:20260426T012018Z
URL:https://business.regionalchamber.biz/events/details/more-than-a-manager-workshop-19406
END:VEVENT

END:VCALENDAR
