BEGIN:VCALENDAR
VERSION:2.0
PRODID:-//ChamberMaster//Event Calendar 2.0//EN
METHOD:PUBLISH
X-PUBLISHED-TTL:P3D
REFRESH-INTERVAL:P3D
CALSCALE:GREGORIAN
BEGIN:VEVENT
DTSTART:20260519T123000Z
DTEND:20260519T153000Z
X-MICROSOFT-CDO-ALLDAYEVENT:FALSE
SUMMARY:Multiple Choice Showing at The Emil and Grace Shihadeh Innovation Center
DESCRIPTION:The Top of Virginia Regional Chamber\, in collaboration with Winchester City Public Schools\, is honored to present our members with an exclusive opportunity to view Multiple Choice\, a documentary offering an inside look at the Emil and Grace Shihadeh Innovation Center (EGSIC). As a dynamic\, hands-on extension of John Handley High School\, EGSIC delivers core and Career and Technical Education programs that equip students not only for college and career pathways\, but most importantly\, for life.\n\n \n\nFollowing the screening\, a panel of educators and workforce leaders will host a Q&A session exploring the center's impact and highlighting ways local employers can partner with schools across the region to support High Quality Work-Based Learning experiences\, which are often the first step in building a strong workforce pipeline. Guided tours of EGSIC will also be available while school is in session\, allowing you to see students and educators in action.\n\n\n\nThis session is intended for business professionals who want to learn how they can partner with our public schools in the region. Seats are limited\, so register today! Please bring your ID on the day of the event for entry to the school.
X-ALT-DESC;FMTTYPE=text/html:The Top of Virginia Regional Chamber\, in collaboration with Winchester City Public Schools\, is honored to present our members with an exclusive opportunity to view <a href="https://www.multiplechoicefilm.com/"><em><u>Multiple Choice</u></em></a>\, a documentary offering an inside look at the Emil and Grace Shihadeh Innovation Center (EGSIC). As a dynamic\, hands-on extension of John Handley High School\, EGSIC delivers core and Career and Technical Education programs that equip students not only for college and career pathways\, but most importantly\, for life.<br />\n&nbsp\;<br />\nFollowing the screening\, a panel of educators and workforce leaders will host a Q&amp\;A session exploring the center&rsquo\;s impact and highlighting ways local employers can partner with schools across the region to support High Quality Work-Based Learning experiences\, which are often the first step in building a strong workforce pipeline. Guided tours of EGSIC will also be available while school is in session\, allowing you to see students and educators in action.<br />\n<br />\nThis session is intended for business professionals who want to learn how they can partner with our public schools in the region. Seats are limited\, so register today! Please bring your ID on the day of the event for entry to the school.&nbsp\;<br />\n&nbsp\;
LOCATION:Emil and Grace Shihadeh Innovation Center 536 Jefferson St Winchester\, VA 22601
UID:e.2531.28575
SEQUENCE:3
DTSTAMP:20260426T040047Z
URL:https://business.regionalchamber.biz/events/details/multiple-choice-showing-at-the-emil-and-grace-shihadeh-innovation-center-28575
END:VEVENT

END:VCALENDAR
