BEGIN:VCALENDAR
VERSION:2.0
PRODID:-//ChamberMaster//Event Calendar 2.0//EN
METHOD:PUBLISH
X-PUBLISHED-TTL:P3D
REFRESH-INTERVAL:P3D
CALSCALE:GREGORIAN
BEGIN:VEVENT
DTSTART:20260327T140000Z
DTEND:20260327T180000Z
X-MICROSOFT-CDO-ALLDAYEVENT:FALSE
SUMMARY:NW Works Pop-Up Shred Day
DESCRIPTION:????NW Works is excited to announce the launch of Pop-Up Shred Days with our first event on Friday\, March 27th from 10 AM to 2 PM\, with the assistance of NW Works Group Day Support participants. The event is being held in the NW Works parking lot at 3085 Shawnee Drive. While donations are always appreciated\, the first box of paper to shred is complimentary. Cash\, check\, and credit card donations are accepted. Every donation we receive during our shred days goes towards helping us fund the NW Works float in the Apple Blossom Parade and provides essential supplies and materials for our Day Program participants. Please note that this is not a real-time shredding event. Paper will be collected and secured\, then shredded in our secure facility.
X-ALT-DESC;FMTTYPE=text/html:????NW Works is excited to announce the launch of Pop-Up Shred Days with our first event on Friday\, March 27th from 10 AM to 2 PM\, with the assistance of NW Works Group Day Support participants. The event is being held in the NW Works parking lot at 3085 Shawnee Drive. While donations are always appreciated\, the first box of paper to shred is complimentary. Cash\, check\, and credit card donations are accepted. Every donation we receive during our shred days goes towards helping us fund the NW Works float in the Apple Blossom Parade and provides essential supplies and materials for our Day Program participants. Please note that this is not a real-time shredding event. Paper will be collected and secured\, then shredded in our secure facility.
LOCATION:3085 Shawnee Drive\, Winchester\, VA 22601
UID:e.2531.28512
SEQUENCE:3
DTSTAMP:20260426T040251Z
URL:https://business.regionalchamber.biz/events/details/nw-works-pop-up-shred-day-28512
END:VEVENT

END:VCALENDAR
