BEGIN:VCALENDAR
VERSION:2.0
PRODID:-//ChamberMaster//Event Calendar 2.0//EN
METHOD:PUBLISH
X-PUBLISHED-TTL:P3D
REFRESH-INTERVAL:P3D
CALSCALE:GREGORIAN
BEGIN:VEVENT
DTSTART:20240403T203000Z
DTEND:20240403T223000Z
X-MICROSOFT-CDO-ALLDAYEVENT:FALSE
SUMMARY:People Inc. Meet & Greet
DESCRIPTION:Learn about People Inc.\, a non-profit Community Action Agency currently serving Clarke and Frederick counties\, at an after-hours mixer! Join us for appetizers\, a cash bar\, door prizes\, and conversation.
X-ALT-DESC;FMTTYPE=text/html:<p style="text-align:center"><span style="font-family:arial\,helvetica\,sans-serif">Learn about People Inc.\, a non-profit Community Action Agency currently serving Clarke and Frederick counties\, at an after-hours mixer! Join us for appetizers\, a cash bar\, door prizes\, and conversation.</span></p>\n
LOCATION:The Monument\, 186 N. Loudoun St. in Winchester
UID:e.2531.21394
SEQUENCE:3
DTSTAMP:20260425T164723Z
URL:https://business.regionalchamber.biz/events/details/people-inc-meet-greet-21394
END:VEVENT

END:VCALENDAR
