BEGIN:VCALENDAR
VERSION:2.0
PRODID:-//ChamberMaster//Event Calendar 2.0//EN
METHOD:PUBLISH
X-PUBLISHED-TTL:P3D
REFRESH-INTERVAL:P3D
CALSCALE:GREGORIAN
BEGIN:VEVENT
DTSTART:20260407T153000Z
DTEND:20260407T173000Z
X-MICROSOFT-CDO-ALLDAYEVENT:FALSE
SUMMARY:PolicyMakers Series - 2026 Post-Legislative Briefing
DESCRIPTION:Join us for the 2026 Post-PolicyMakers Series Luncheon!\n\nPresented by Rappahannock Electric Cooperative\n\nHosted by the Top of Virginia Public Policy Committee \n\n\n\nThis event provides a valuable opportunity to engage with our legislative representatives ahead of the upcoming session.\n\n\n\nTuesday\, April 7th\, 2026\n\nThe George Washington Hotel\n \n\n\nEVENT SCHEDULE\n\n11:30 am - Networking and Luncheon Buffet \n\n12:00 pm - Welcome & Pledge of Allegiance\n\n12:10 pm - Public Policy Committee Representative \n\n12:15 pm - Panelists (Q&A) \n\n\n	Delegate Delores Oates\, Virginia House of Delegates - 31st House District \n	Delegate Bill Wiley\, Virginia House of Delegates - 32nd House District \n\n\n1:30 pm - Program Concludes  \n\n\n\nAttire: Business and/or Business Casual \n\n\n\nThe Public Policy committee is currently developing questions for the panel. If you'd like to submit a question in advance\, please email Cythina Schneider at cschneider@regionalchamber.biz by Tuesday\, March 31\, 2026.
X-ALT-DESC;FMTTYPE=text/html:<h1><span style="font-family:verdana\;"><strong style="font-family: verdana\; font-size: 14px\;"><span style="font-size: 16px\;"><span style="font-size:20px\;">Join us for the 2026 Post-PolicyMakers Series Luncheon!</span></span></strong></span><br />\n<span style="font-size:16px\;"><span style="font-family:verdana\;">Presented by <strong data-end="710" data-start="673">Rappahannock Electric Cooperative</strong></span></span><br />\n<strong style="font-family: verdana\; font-size: 14px\;">Hosted by the Top of Virginia Public Policy Committee&nbsp\;</strong><br />\n<br />\n<span style="font-size:16px\;"><strong><span style="font-family:verdana\;">This event provides a valuable opportunity to engage with our legislative representatives ahead of the upcoming session.</span></strong></span><br />\n<br />\n<span style="font-size: 14px\;"><span style="font-family: verdana\;"><span style="font-size: 16px\;">Tuesday\, April 7th\, 2026</span><br />\n<strong>The George Washington Hotel</strong></span></span></h1>\n&nbsp\;\n\n<div style="text-align: center\;">\n<div style="text-align: left\;"><span style="font-family: verdana\;"><span style="font-size: 12px\;"><strong>EVENT SCHEDULE</strong><br />\n11:30 am -&nbsp\;<strong>Networking and Luncheon Buffet&nbsp\;</strong><br />\n12:00&nbsp\;pm -&nbsp\;<span background-color:="" text-align:="" trebuchet=""><strong>Welcome&nbsp\;&amp\; Pledge of Allegiance</strong><br />\n12:10 pm -&nbsp\;<strong>Public Policy Committee Representative&nbsp\;</strong></span><br />\n12:15 pm -&nbsp\;<strong>Panelists (Q&amp\;A)</strong></span></span><span style="font-family: verdana\;"><span style="font-size: 12px\;">&#8203\;</span></span></div>\n\n<ul>\n	<li style="text-align: left\;"><strong><span style="font-family: verdana\; font-size: 12px\;">Delegate Delores Oates</span></strong><span style="font-family: verdana\;"><span style="font-size: 12px\;">\, Virginia House of Delegates -&nbsp\;31st House District&nbsp\;</span></span></li>\n	<li style="text-align: left\;"><strong><span style="font-family: verdana\; font-size: 12px\;">Delegate&nbsp\;</span></strong><span style="font-family: verdana\;"><span style="font-size: 12px\;"><strong>Bill Wiley</strong>\, Virginia House of Delegates -&nbsp\;32nd House District&nbsp\;</span></span></li>\n</ul>\n\n<div style="text-align: left\;"><span style="font-family: verdana\;"><span style="font-size: 12px\;">1:30&nbsp\;pm -&nbsp\;<strong>Program Concludes&nbsp\;<span style="text-align: center\;">&nbsp\;</span></strong></span></span><br />\n<br />\n<strong style="font-family: verdana\; font-size: 12px\;">Attire:</strong><span style="font-family: verdana\; font-size: 12px\;">&nbsp\;Business and/or Business Casual&nbsp\;</span><br />\n<br />\n<span style="font-size:14px\;"><span style="font-family: verdana\;"><em style="color: rgb(178\, 34\, 34)\;">The Public Policy committee is currently developing questions for the panel. If you&#39\;d like to submit a question in advance\, please&nbsp\;</em><em style="color: rgb(178\, 34\, 34)\;">email Cythina Schneider at cschneider@regionalchamber.biz by&nbsp\;</em><strong><em style="color: rgb(178\, 34\, 34)\;">Tuesday\, March 31\, 2026.</em></strong></span></span></div>\n</div>\n\n<div style="text-align: center\;">\n<p data-end="776" data-start="740" style="text-align: left\;">&nbsp\;</p>\n</div>\n
LOCATION:The George Washington Hotel 103 East Piccadilly Street Winchester\, VA 22601
UID:e.2531.28156
SEQUENCE:3
DTSTAMP:20260426T021905Z
URL:https://business.regionalchamber.biz/events/details/policymakers-series-2026-post-legislative-briefing-28156
END:VEVENT

END:VCALENDAR
